BEGIN:VCALENDAR
VERSION:2.0
PRODID:-//Netanya AACI - ECPv6.15.20//NONSGML v1.0//EN
CALSCALE:GREGORIAN
METHOD:PUBLISH
X-WR-CALNAME:Netanya AACI
X-ORIGINAL-URL:https://netanyaaaci.org.il
X-WR-CALDESC:Events for Netanya AACI
REFRESH-INTERVAL;VALUE=DURATION:PT1H
X-Robots-Tag:noindex
X-PUBLISHED-TTL:PT1H
BEGIN:VTIMEZONE
TZID:Asia/Jerusalem
BEGIN:DAYLIGHT
TZOFFSETFROM:+0200
TZOFFSETTO:+0300
TZNAME:IDT
DTSTART:20240329T000000
END:DAYLIGHT
BEGIN:STANDARD
TZOFFSETFROM:+0300
TZOFFSETTO:+0200
TZNAME:IST
DTSTART:20241026T230000
END:STANDARD
BEGIN:DAYLIGHT
TZOFFSETFROM:+0200
TZOFFSETTO:+0300
TZNAME:IDT
DTSTART:20250328T000000
END:DAYLIGHT
BEGIN:STANDARD
TZOFFSETFROM:+0300
TZOFFSETTO:+0200
TZNAME:IST
DTSTART:20251025T230000
END:STANDARD
BEGIN:DAYLIGHT
TZOFFSETFROM:+0200
TZOFFSETTO:+0300
TZNAME:IDT
DTSTART:20260327T000000
END:DAYLIGHT
BEGIN:STANDARD
TZOFFSETFROM:+0300
TZOFFSETTO:+0200
TZNAME:IST
DTSTART:20261024T230000
END:STANDARD
END:VTIMEZONE
BEGIN:VEVENT
DTSTART;TZID=Asia/Jerusalem:20251028T160000
DTEND;TZID=Asia/Jerusalem:20251028T160000
DTSTAMP:20260423T232344
CREATED:20221123T101152Z
LAST-MODIFIED:20251028T123451Z
UID:10050150-1761667200-1761667200@netanyaaaci.org.il
SUMMARY:Book Talk - The Midnight Library
DESCRIPTION:Book Talk – The Midnight Library – by Matt Haig \nLed by Marcy Manas and Liz Morley \n16:00 Tuesday 28 October \n Our Book Talk meets once a month. A list of questions is provided in advance to facilitate discussion. Books are available to borrow from the Gura Family Memorial Library. \nOur October choice is The Midnight Library – by Matt Haig. \nWhen Nora Seed finds herself in the Midnight Library\, she has a chance to make things right. Up until now\, her life has been full of misery and regret. She feels she has let everyone down\, including herself\, but things are about to change. \nThe books in the Midnight Library enable Nora to live as if she had done things differently. With the help of an old friend\, she can now undo every one of her regrets as she tries to work out her perfect life. However\, things aren’t always what she imagined they’d be\, and soon her choices place the library and herself in extreme danger. \nBefore time runs out\, she must answer the ultimate question: what is the best way to live? \nMembers NIS 25      \nNon-Members NIS 35 \n Please purchase tickets below\, contact the Box Office 09-8330950 or pay at the door. \n 
URL:https://netanyaaaci.org.il/event/booktalk_oct2025/
LOCATION:Netanya AACI\, 28 Shmuel Hanatziv\, Netanya\, Israel\, 4228132\, Israel
CATEGORIES:Book Club
ATTACH;FMTTYPE=image/png:https://netanyaaaci.org.il/wp-content/uploads/2021/03/Book-Talk-new-1-1-1.png
ORGANIZER;CN="Netanya AACI":MAILTO:info@netanyaaaci.org.il
END:VEVENT
END:VCALENDAR