BEGIN:VCALENDAR
VERSION:2.0
PRODID:-//Netanya AACI - ECPv6.15.20//NONSGML v1.0//EN
CALSCALE:GREGORIAN
METHOD:PUBLISH
X-ORIGINAL-URL:https://netanyaaaci.org.il
X-WR-CALDESC:Events for Netanya AACI
REFRESH-INTERVAL;VALUE=DURATION:PT1H
X-Robots-Tag:noindex
X-PUBLISHED-TTL:PT1H
BEGIN:VTIMEZONE
TZID:Asia/Jerusalem
BEGIN:DAYLIGHT
TZOFFSETFROM:+0200
TZOFFSETTO:+0300
TZNAME:IDT
DTSTART:20250328T000000
END:DAYLIGHT
BEGIN:STANDARD
TZOFFSETFROM:+0300
TZOFFSETTO:+0200
TZNAME:IST
DTSTART:20251025T230000
END:STANDARD
BEGIN:DAYLIGHT
TZOFFSETFROM:+0200
TZOFFSETTO:+0300
TZNAME:IDT
DTSTART:20260327T000000
END:DAYLIGHT
BEGIN:STANDARD
TZOFFSETFROM:+0300
TZOFFSETTO:+0200
TZNAME:IST
DTSTART:20261024T230000
END:STANDARD
BEGIN:DAYLIGHT
TZOFFSETFROM:+0200
TZOFFSETTO:+0300
TZNAME:IDT
DTSTART:20270326T000000
END:DAYLIGHT
BEGIN:STANDARD
TZOFFSETFROM:+0300
TZOFFSETTO:+0200
TZNAME:IST
DTSTART:20271030T230000
END:STANDARD
END:VTIMEZONE
BEGIN:VEVENT
DTSTART;TZID=Asia/Jerusalem:20260107T200000
DTEND;TZID=Asia/Jerusalem:20260107T200000
DTSTAMP:20260425T135452
CREATED:20251218T090053Z
LAST-MODIFIED:20251218T090053Z
UID:10051307-1767816000-1767816000@netanyaaaci.org.il
SUMMARY:Comedy for Koby
DESCRIPTION:Comedy for Koby \n20:00 Wednesday 7 January\nat Matnas Ir Yamim\, 6 Beni Berman\, Netanya \nThe Koby Mandell Foundation invites you to laugh and support Israel’s bereaved families. \nThe Koby Mandell Foundation is the largest provider of emotional support services for the thousands of bereaved Israelis who have lost an immediate family member to terror or tragedy via multi-faceted therapeutic programmes. It knows that laughter and healing are necessary for those who have suffered the loss of a loved one. Partnering with LA funnyman Avi Liberman and the DJW PRODUCTIONS team of Dena & Jeremy Wimpfheimer\, Comedy for Koby\, Israel’s most popular English stand-up comedy tour was born. \nOver the years\, tens of thousands of audience members in cities all around Israel have been introduced to some of the best and brightest in the comedy world today. \nThrough the generous support of sponsors and donors\, all proceeds from ticket sales go to supporting the programmes of the foundation and their work with bereaved children and families. \nFor tickets please call the Netanya AACI Box Office 09-8330950\nDoors Open 19:40\nVIP Seating: NIS 235 Regular Seating: NIS 135
URL:https://netanyaaaci.org.il/event/comedy-for-koby-jan2026/
LOCATION:Matnas Ir Yamim\, 6 Beni Berman Street\, Netanya\, Israel
CATEGORIES:Box Office Outings
ATTACH;FMTTYPE=image/png:https://netanyaaaci.org.il/wp-content/uploads/2025/12/Comedy-for-Koby.png
ORGANIZER;CN="Netanya AACI":MAILTO:info@netanyaaaci.org.il
END:VEVENT
END:VCALENDAR