BEGIN:VCALENDAR
VERSION:2.0
PRODID:-//Netanya AACI - ECPv6.15.20//NONSGML v1.0//EN
CALSCALE:GREGORIAN
METHOD:PUBLISH
X-ORIGINAL-URL:https://netanyaaaci.org.il
X-WR-CALDESC:Events for Netanya AACI
REFRESH-INTERVAL;VALUE=DURATION:PT1H
X-Robots-Tag:noindex
X-PUBLISHED-TTL:PT1H
BEGIN:VTIMEZONE
TZID:Asia/Jerusalem
BEGIN:DAYLIGHT
TZOFFSETFROM:+0200
TZOFFSETTO:+0300
TZNAME:IDT
DTSTART:20240329T000000
END:DAYLIGHT
BEGIN:STANDARD
TZOFFSETFROM:+0300
TZOFFSETTO:+0200
TZNAME:IST
DTSTART:20241026T230000
END:STANDARD
BEGIN:DAYLIGHT
TZOFFSETFROM:+0200
TZOFFSETTO:+0300
TZNAME:IDT
DTSTART:20250328T000000
END:DAYLIGHT
BEGIN:STANDARD
TZOFFSETFROM:+0300
TZOFFSETTO:+0200
TZNAME:IST
DTSTART:20251025T230000
END:STANDARD
BEGIN:DAYLIGHT
TZOFFSETFROM:+0200
TZOFFSETTO:+0300
TZNAME:IDT
DTSTART:20260327T000000
END:DAYLIGHT
BEGIN:STANDARD
TZOFFSETFROM:+0300
TZOFFSETTO:+0200
TZNAME:IST
DTSTART:20261024T230000
END:STANDARD
END:VTIMEZONE
BEGIN:VEVENT
DTSTART;TZID=Asia/Jerusalem:20251027T103000
DTEND;TZID=Asia/Jerusalem:20251027T103000
DTSTAMP:20260423T015709
CREATED:20250828T184413Z
LAST-MODIFIED:20250828T184514Z
UID:10050149-1761561000-1761561000@netanyaaaci.org.il
SUMMARY:Yanina Musnikow - Living in Israel Series: Senior Discounts & Benefits
DESCRIPTION:Living in Israel Series: Senior Discounts & Benefits \nPresented by our Counselor Yanina Musnikow \n10:30 Monday 27 October \nProgram in person and on Zoom \nYanina will talk about senior arnona (Municipal) discounts\, parking & transportation benefits\, a short overview of pensions\, and other senior discounts. There will be a question-and-answer period after the presentation. \nPlease join us. \nOther topics in the Series: \nThe Israeli Health System \nUnderstanding Bituach Leumi\, the National Insurance Institute \nLong-Term Care – Cash or Caregiver \nCleaners – Rights and Obligations \nAdvanced Medical Directive aka Living Will\, DNR \n  \nMembers NIS 25                                      \nNon-Members NIS 35
URL:https://netanyaaaci.org.il/event/yanina-senior-discounts-benefits/
LOCATION:In Person or on Zoom\, 28 Shmuel Hanatziv\, Netanya\, Israel\, 4228132\, Israel
CATEGORIES:Here To Help You,Lectures
ATTACH;FMTTYPE=image/png:https://netanyaaaci.org.il/wp-content/uploads/2023/09/senior-discounts-1-1-1-1.png
ORGANIZER;CN="Netanya AACI":MAILTO:info@netanyaaaci.org.il
END:VEVENT
END:VCALENDAR