BEGIN:VCALENDAR
VERSION:2.0
PRODID:-//Netanya AACI - ECPv6.15.20//NONSGML v1.0//EN
CALSCALE:GREGORIAN
METHOD:PUBLISH
X-WR-CALNAME:Netanya AACI
X-ORIGINAL-URL:https://netanyaaaci.org.il
X-WR-CALDESC:Events for Netanya AACI
REFRESH-INTERVAL;VALUE=DURATION:PT1H
X-Robots-Tag:noindex
X-PUBLISHED-TTL:PT1H
BEGIN:VTIMEZONE
TZID:Asia/Jerusalem
BEGIN:DAYLIGHT
TZOFFSETFROM:+0200
TZOFFSETTO:+0300
TZNAME:IDT
DTSTART:20240329T000000
END:DAYLIGHT
BEGIN:STANDARD
TZOFFSETFROM:+0300
TZOFFSETTO:+0200
TZNAME:IST
DTSTART:20241026T230000
END:STANDARD
BEGIN:DAYLIGHT
TZOFFSETFROM:+0200
TZOFFSETTO:+0300
TZNAME:IDT
DTSTART:20250328T000000
END:DAYLIGHT
BEGIN:STANDARD
TZOFFSETFROM:+0300
TZOFFSETTO:+0200
TZNAME:IST
DTSTART:20251025T230000
END:STANDARD
BEGIN:DAYLIGHT
TZOFFSETFROM:+0200
TZOFFSETTO:+0300
TZNAME:IDT
DTSTART:20260327T000000
END:DAYLIGHT
BEGIN:STANDARD
TZOFFSETFROM:+0300
TZOFFSETTO:+0200
TZNAME:IST
DTSTART:20261024T230000
END:STANDARD
END:VTIMEZONE
BEGIN:VEVENT
DTSTART;TZID=Asia/Jerusalem:20251104T110000
DTEND;TZID=Asia/Jerusalem:20251104T110000
DTSTAMP:20260423T012000
CREATED:20250905T125107Z
LAST-MODIFIED:20251103T200230Z
UID:10050292-1762254000-1762254000@netanyaaaci.org.il
SUMMARY:Nefesh B’Nefesh Presents: The Challenges of Making Aliyah\, Especially Later in Life
DESCRIPTION:Nefesh B’Nefesh Presents: The Challenges of Making Aliyah\, Especially Later in Life \n11:00 Tuesday 4 November (rescheduled from June) CANCELLED \nEveryone assumes that making Aliya as a retiree is much easier. After all\, there is no pressure to look for schools for your children\, you don’t need to find a job\, you even get additional subsidies; all of which provide you with the freedom to settle into and explore your new home at your leisure. This premise is not totally accurate. \nMiriam Naiman\, who has specialized in integration and absorption for new Olim since 2005\, will address the unique emotional challenges that older Olim face by leaving their friends\, family and support networks\, trying to navigate in a new culture\, often unfamiliar with Hebrew\, societal norms\, public transportation and so much more. These are key issues that are rarely considered or even discussed. \nFollowing this lecture\, staff from the NBN Answers and Advocacy team will provide support on accessing and using phone applications enabling you to better interact with different ministries as well as being available to answer your questions about: \n\nBituach Leumi\nConverting your driver’s license\nAliyah rights and benefits\nNavigating the healthcare system\nAnd any other questions or concerns you may have about life in Israel\n\nMiriam Naiman is the Senior Advisor on the Nefesh B’Nefesh Answers team. \nMembers and non-members NIS 20 at the door
URL:https://netanyaaaci.org.il/event/nbn-nov2025/
LOCATION:Netanya AACI\, 28 Shmuel Hanatziv\, Netanya\, Israel\, 4228132\, Israel
CATEGORIES:Lectures,Programs
ATTACH;FMTTYPE=image/png:https://netanyaaaci.org.il/wp-content/uploads/2023/05/NBN-Answers-graphic.png
ORGANIZER;CN="Netanya AACI":MAILTO:info@netanyaaaci.org.il
END:VEVENT
BEGIN:VEVENT
DTSTART;TZID=Asia/Jerusalem:20251123T193000
DTEND;TZID=Asia/Jerusalem:20251123T193000
DTSTAMP:20260423T012000
CREATED:20251017T064237Z
LAST-MODIFIED:20251028T123245Z
UID:10050755-1763926200-1763926200@netanyaaaci.org.il
SUMMARY:Jayne Wynick: Voices from the Heart – Life Supporting Israel from the Diaspora
DESCRIPTION:Jayne Wynick: Voices from the Heart – Life Supporting Israel from the Diaspora \n19:30 Sunday 23 November \nProgram In Person and on Zoom \nJayne Wynick could not believe the support for Hamas after the massacre of 7 October 2023. She started a blog on 10 October which has spread worldwide and which reaches over 10\,000 people a day in Israel\, Canada\, France\, Australia\, the US\, the UK and elsewhere. People say that she was writing what they felt as Israel fights its enemies\, hostages are held and anti-Semitism rages across the world which stays silent. The first year of this war is now a published book- Voices From The Heart: A Year of War – which follows her personal journey from shock to hope to despair\, anger\, resilience and resignation as the world turned its back on Israel and the Jewish community. \nJayne Wynick is from Leeds\, UK. She has worked 25 years in the fashion industry\, in financial services\, as a magistrate and is active in community efforts and advocacy for Israel in Leeds and beyond. Along with her plans for Aliyah\, she has organised marches and rallies and her writing and advocacy continues for Israel and Jews around the world \nMembers Prepaid: NIS40 (in person and on Zoom) \nMembers at the door and non-members: NIS 60 (in person and on Zoom) \nPurchase tickets below\, call the box office 09-8330950\, or pay at the door. \nPrepaid tickets available until noon on the day of this event.
URL:https://netanyaaaci.org.il/event/wynick-23nov2025/
LOCATION:In Person or on Zoom\, 28 Shmuel Hanatziv\, Netanya\, Israel\, 4228132\, Israel
CATEGORIES:Lectures
ATTACH;FMTTYPE=image/jpeg:https://netanyaaaci.org.il/wp-content/uploads/2025/10/Jayne-Wynick.jpg
ORGANIZER;CN="Netanya AACI":MAILTO:info@netanyaaaci.org.il
END:VEVENT
BEGIN:VEVENT
DTSTART;TZID=Asia/Jerusalem:20251124T103000
DTEND;TZID=Asia/Jerusalem:20251124T103000
DTSTAMP:20260423T012000
CREATED:20250828T184413Z
LAST-MODIFIED:20251028T122326Z
UID:10050819-1763980200-1763980200@netanyaaaci.org.il
SUMMARY:Yanina Musnikow - Living in Israel Series: The Israeli Health System
DESCRIPTION:Living in Israel Series: The Israeli Health System \nPresented by our Counselor Yanina Musnikow \n10:30 Monday 24 November \nProgram in person and on Zoom \nLearn how to navigate the Health System to receive needed health care. Find out about the Health Funds’ different levels of coverage and how to use your supplemental health plans to your advantage. Know when to go to MARAM\, ER\, or your doctor. \nThere will be a question-and-answer period after the presentation. Please join us. \nOther dates and topics in the series: \nMonday 29 December      Understanding Bituach Leumi\, the National Insurance Institute \nMonday 26 January         Long-Term Care – Cash or Caregiver \nMonday 23 February        Cleaners’ Rights \nMonday 30 March            Advanced Medical Directive aka Living Will\, DNR \n  \nMembers NIS 25                                      \nNon-Members NIS 35 \nPrepaid tickets available until the noon the day prior to this event.
URL:https://netanyaaaci.org.il/event/yanina-health-care-nov2025/
LOCATION:In Person or on Zoom\, 28 Shmuel Hanatziv\, Netanya\, Israel\, 4228132\, Israel
CATEGORIES:Here To Help You,Lectures
ATTACH;FMTTYPE=image/png:https://netanyaaaci.org.il/wp-content/uploads/2025/08/Misrad-HaBriut.png
ORGANIZER;CN="Netanya AACI":MAILTO:info@netanyaaaci.org.il
END:VEVENT
BEGIN:VEVENT
DTSTART;TZID=Asia/Jerusalem:20251130T193000
DTEND;TZID=Asia/Jerusalem:20251130T193000
DTSTAMP:20260423T012000
CREATED:20250805T044921Z
LAST-MODIFIED:20250822T064542Z
UID:10050142-1764531000-1764531000@netanyaaaci.org.il
SUMMARY:Angels In Orange: United Hatzalah of Israel - Shai Jaskoll
DESCRIPTION:Angels In Orange: United Hatzalah of Israel\nShai Jaskoll\n19:30 Sunday 30 November \n\n\nCome join us for amazing stories of heroism as we hear about the dedication of United Hatzalah volunteers who work right here in Netanya\, and the work they did throughout the country on October 7.\n\n\n\n\n\n\nSince 2006\, when United Hatzalah began in earnest\, volunteers have been responding to emergencies across Israel every single day\, with the goal of arriving at the scene within 90 seconds. From rocket attacks and terror incidents to medical crises and mass casualty events\, United Hatzalah has built a nationwide network of trained medics equipped with cutting-edge technology and lifesaving equipment. Our response on October 7 and during the ongoing Iran-backed war is a continuation of this unwavering commitment to saving lives—anytime\, anywhere.\n\n\n\n\n\n\nShai Jaskoll is the Director of Development for United Hatzalah of Israel. He has been involved in emergency medical services (EMS) since 1991\, starting as a volunteer in New Jersey\, US\, and ultimately culminating in managing the 9-1-1 EMS Communication Center in Newark\, NJ before moving to Israel in 2007. He has been an active medic with United Hatzalah since his arrival in Israel and has consulted previously for the organization with international implementation projects.\n\nShai has a Bachelor’s degree in Psychology from Yeshiva University and a Master’s degree in Administration from Fairleigh Dickinson University (FDU).\n\nNetanya AACI will be donating two EPiPens\, value 500 NIS\, to United Hatzalah.\n\n\nMembers Prepaid: 40 NIS\nMembers at the door and Non-members: 60 NIS\n\nPurchase tickets below\, call the box office 09-8330950 or pay at the door.\nWebsite ticket option available until noon on the day of evening events and until noon the prior day for daytime events.
URL:https://netanyaaaci.org.il/event/united-hatzalah-30nov/
LOCATION:Netanya AACI\, 28 Shmuel Hanatziv\, Netanya\, Israel\, 4228132\, Israel
CATEGORIES:Lectures
ATTACH;FMTTYPE=image/jpeg:https://netanyaaaci.org.il/wp-content/uploads/2025/08/United-Hatzalah.jpg
ORGANIZER;CN="Netanya AACI":MAILTO:info@netanyaaaci.org.il
END:VEVENT
END:VCALENDAR