BEGIN:VCALENDAR
VERSION:2.0
PRODID:-//Netanya AACI - ECPv6.15.20//NONSGML v1.0//EN
CALSCALE:GREGORIAN
METHOD:PUBLISH
X-WR-CALNAME:Netanya AACI
X-ORIGINAL-URL:https://netanyaaaci.org.il
X-WR-CALDESC:Events for Netanya AACI
REFRESH-INTERVAL;VALUE=DURATION:PT1H
X-Robots-Tag:noindex
X-PUBLISHED-TTL:PT1H
BEGIN:VTIMEZONE
TZID:Asia/Jerusalem
BEGIN:DAYLIGHT
TZOFFSETFROM:+0200
TZOFFSETTO:+0300
TZNAME:IDT
DTSTART:20250328T000000
END:DAYLIGHT
BEGIN:STANDARD
TZOFFSETFROM:+0300
TZOFFSETTO:+0200
TZNAME:IST
DTSTART:20251025T230000
END:STANDARD
BEGIN:DAYLIGHT
TZOFFSETFROM:+0200
TZOFFSETTO:+0300
TZNAME:IDT
DTSTART:20260327T000000
END:DAYLIGHT
BEGIN:STANDARD
TZOFFSETFROM:+0300
TZOFFSETTO:+0200
TZNAME:IST
DTSTART:20261024T230000
END:STANDARD
BEGIN:DAYLIGHT
TZOFFSETFROM:+0200
TZOFFSETTO:+0300
TZNAME:IDT
DTSTART:20270326T000000
END:DAYLIGHT
BEGIN:STANDARD
TZOFFSETFROM:+0300
TZOFFSETTO:+0200
TZNAME:IST
DTSTART:20271030T230000
END:STANDARD
END:VTIMEZONE
BEGIN:VEVENT
DTSTART;TZID=Asia/Jerusalem:20260316T110000
DTEND;TZID=Asia/Jerusalem:20260316T110000
DTSTAMP:20260422T082214
CREATED:20251024T070354Z
LAST-MODIFIED:20260308T065849Z
UID:10051320-1773658800-1773658800@netanyaaaci.org.il
SUMMARY:Living in Israel Series: Advanced Medical Directive aka Living Will
DESCRIPTION:Living in Israel Series\nAdvanced Medical Directive aka Living Will\nPresented by our Counselor Yanina Musnikow\n11:00 Monday 16 March\nProgram in person and on Zoom \nThis document is a free option given by the Ministry of Health. Ensure that your wishes are known\, respected and conform to Israeli law and practice. \nThere will be a question-and-answer period after the presentation. Please join us. \nMembers NIS 25\nNon-members NIS 35 \nPurchase tickets below\, call the box office 09-8330950 or pay at the door. \nPrepaid tickets available until noon the day prior to this event. \nNearby Parking: (one block north of Netanya AACI\, approach from the north on Shmuel Hanatziv to turn right into the driveway just before the traffic circle) \nUsing Waze: https://waze.com/ul/hsv8zcjvhf \nUsing Google Maps: https://maps.app.goo.gl/teDPagS7GRUi5VzY8
URL:https://netanyaaaci.org.il/event/living-in-israel-livingwill-march2026/
LOCATION:In Person or on Zoom\, 28 Shmuel Hanatziv\, Netanya\, Israel\, 4228132\, Israel
CATEGORIES:Lectures
ATTACH;FMTTYPE=image/png:https://netanyaaaci.org.il/wp-content/uploads/2025/10/Misrad-HaBriut.png
ORGANIZER;CN="Netanya AACI":MAILTO:info@netanyaaaci.org.il
END:VEVENT
BEGIN:VEVENT
DTSTART;TZID=Asia/Jerusalem:20260317T110000
DTEND;TZID=Asia/Jerusalem:20260317T110000
DTSTAMP:20260422T082214
CREATED:20251205T073314Z
LAST-MODIFIED:20260315T094142Z
UID:10051162-1773745200-1773745200@netanyaaaci.org.il
SUMMARY:POSTPONED Gaye Turiel: Grieving - A Healing Process
DESCRIPTION:Gaye Turiel: Grieving – A Healing Process\n11:00 Tuesday 17 March POSTPONED\n\nGrief is a healthy response to a lousy situation.  It doesn’t matter what or who has been lost – it could be the loss of power over substances or another person.  The issue is powerlessness over life and death\, another person’s feelings or over one’s own behavior.  The topic focuses on the 5 stages of grief and how to deal with them.\n\n\nGaye Turiel\, B Soc Sci (Social Work) NAADAC (CERTIFIED ADDICTIONS COUNSELLOR). Gaye is the MD of a consultancy\, specialising in female and male resilience\, individual\, couple\, family and group interventions.\n\nFor two years she ran a group at AACI on “Aging Gracefully.”\n\nGaye’s husband recently passed away.  This brought the experience of grieving very much into her present life and she wanted to share this with others who may be going through\, or have gone through\, this process.\n\n\n\nMembers Prepaid: NIS 30\nMembers at door and Non-Members: NIS 50 \nPurchase tickets below\, call the box office 09-8330950 (Sunday-Thursday 8:30-12:30) or pay at the door. \nPrepaid tickets available until noon on the day prior to this event. \nNearby Parking: (one block north of Netanya AACI\, approach from the north on Shmuel Hanatziv to turn right into the driveway just before the traffic circle) \nUsing Waze: https://waze.com/ul/hsv8zcjvhf \nUsing Google Maps: https://maps.app.goo.gl/teDPagS7GRUi5VzY8
URL:https://netanyaaaci.org.il/event/gaye-turiel-grieving-17march/
LOCATION:Netanya AACI\, 28 Shmuel Hanatziv\, Netanya\, Israel\, 4228132\, Israel
CATEGORIES:Lectures
ATTACH;FMTTYPE=image/jpeg:https://netanyaaaci.org.il/wp-content/uploads/2021/08/Gaye-Turiel.jpeg
ORGANIZER;CN="Netanya AACI":MAILTO:info@netanyaaaci.org.il
END:VEVENT
BEGIN:VEVENT
DTSTART;TZID=Asia/Jerusalem:20260325T193000
DTEND;TZID=Asia/Jerusalem:20260325T193000
DTSTAMP:20260422T082214
CREATED:20251203T100055Z
LAST-MODIFIED:20260315T094917Z
UID:10051161-1774467000-1774467000@netanyaaaci.org.il
SUMMARY:POSTPONED Harley Zipori - The Cassini-Huygens Mission: A Voyage of Discovery
DESCRIPTION:Harley Zipori – The Cassini-Huygens Mission: A Voyage of Discovery \n19:30 Wednesday 25 March POSTPONED \nThe planet Saturn is the jewel in the crown of the solar system. Situated in the remote reaches of the solar system\, far from the Sun\, Saturn has been a planet of mystery\, drawing the attention of astronomers ever since Galileo discovered the rings with his telescope. \nNASA’s Cassini spacecraft orbited Saturn for over a decade\, exploring the planet and its moons and making truly astounding discoveries that changed the way we think of planets and objects that orbit them. Cassini carried the Huygens probe that landed on Saturn’s moon Titan\, the first ever landing on any body in the outer solar system. \nCome join us for a voyage of discovery of how this marvelous feat was accomplished and what Cassini told us about Saturn\, its moons and its phenomenal ring system. \nArmed with a Bachelor of Science in Aerospace Engineering and an MS in Aeronautics and Astronautics from MIT\, Harley started working at NASA’s Jet Propulsion Lab in 1978. He spent most of his time there working on the Galileo spacecraft that eventually orbited Jupiter. Harley made Aliyah in 1981 and worked in the technology sector until retiring in 2019. He has been living in Netanya since 1984. He has an ongoing passion for all things astronomical and loves sharing it with others. \nMembers NIS 30 \nNon-members and Members at the door NIS 50 \nPurchase tickets below\, call the box office 09-8330950 or pay at the door. Prepaid tickets available until noon on the day of this event.
URL:https://netanyaaaci.org.il/event/zipori-saturn-march/
LOCATION:Netanya AACI\, 28 Shmuel Hanatziv\, Netanya\, Israel\, 4228132\, Israel
CATEGORIES:Lectures
ATTACH;FMTTYPE=image/jpeg:https://netanyaaaci.org.il/wp-content/uploads/2025/12/saturn-compressed.jpg
ORGANIZER;CN="Netanya AACI":MAILTO:info@netanyaaaci.org.il
END:VEVENT
END:VCALENDAR