BEGIN:VCALENDAR
VERSION:2.0
PRODID:-//Netanya AACI - ECPv6.15.20//NONSGML v1.0//EN
CALSCALE:GREGORIAN
METHOD:PUBLISH
X-ORIGINAL-URL:https://netanyaaaci.org.il
X-WR-CALDESC:Events for Netanya AACI
REFRESH-INTERVAL;VALUE=DURATION:PT1H
X-Robots-Tag:noindex
X-PUBLISHED-TTL:PT1H
BEGIN:VTIMEZONE
TZID:Asia/Jerusalem
BEGIN:DAYLIGHT
TZOFFSETFROM:+0200
TZOFFSETTO:+0300
TZNAME:IDT
DTSTART:20240329T000000
END:DAYLIGHT
BEGIN:STANDARD
TZOFFSETFROM:+0300
TZOFFSETTO:+0200
TZNAME:IST
DTSTART:20241026T230000
END:STANDARD
BEGIN:DAYLIGHT
TZOFFSETFROM:+0200
TZOFFSETTO:+0300
TZNAME:IDT
DTSTART:20250328T000000
END:DAYLIGHT
BEGIN:STANDARD
TZOFFSETFROM:+0300
TZOFFSETTO:+0200
TZNAME:IST
DTSTART:20251025T230000
END:STANDARD
BEGIN:DAYLIGHT
TZOFFSETFROM:+0200
TZOFFSETTO:+0300
TZNAME:IDT
DTSTART:20260327T000000
END:DAYLIGHT
BEGIN:STANDARD
TZOFFSETFROM:+0300
TZOFFSETTO:+0200
TZNAME:IST
DTSTART:20261024T230000
END:STANDARD
END:VTIMEZONE
BEGIN:VEVENT
DTSTART;TZID=Asia/Jerusalem:20251229T101500
DTEND;TZID=Asia/Jerusalem:20251229T101500
DTSTAMP:20260422T192701
CREATED:20251024T070354Z
LAST-MODIFIED:20251218T082354Z
UID:10050761-1767003300-1767003300@netanyaaaci.org.il
SUMMARY:Living in Israel Series: Understanding Bituach Leumi\, the National Insurance Institute
DESCRIPTION:Living in Israel Series\nUnderstanding Bituach Leumi\, the National Insurance Institute\nPresented by our Counselor Yanina Musnikow\n10:15 Monday 29 December\nProgram in person and on Zoom \nUnderstanding Bituach Leumi for the new Oleh\, Returning Resident and Seniors. The talk will touch upon Health Coverage\, Pensions\, Long-term Care\, Income Support\, Disability\, Unemployment and who is eligible for coverage. \nThere will be a question-and-answer period after the presentation.\nPlease join us. \nOther dates and topics in the series:\nMonday 26 January Long-Term Care – Cash or Caregiver\nMonday 23 February Cleaners’ Rights\nMonday 30 March Advanced Medical Directive aka Living Will\, DNR \nMembers NIS 25\nNon-Members NIS 35 \nPurchase tickets below\, call the box office 09-8330950 or pay at the door. \nPrepaid tickets available until noon the day prior to this event.
URL:https://netanyaaaci.org.il/event/living-in-israel-bituach-leumi2025/
LOCATION:In Person or on Zoom\, 28 Shmuel Hanatziv\, Netanya\, Israel\, 4228132\, Israel
CATEGORIES:Lectures
ATTACH;FMTTYPE=image/jpeg:https://netanyaaaci.org.il/wp-content/uploads/2025/10/Bituach-Leumi.jpg
ORGANIZER;CN="Netanya AACI":MAILTO:info@netanyaaaci.org.il
END:VEVENT
END:VCALENDAR