BEGIN:VCALENDAR
VERSION:2.0
PRODID:-//Netanya AACI - ECPv6.15.20//NONSGML v1.0//EN
CALSCALE:GREGORIAN
METHOD:PUBLISH
X-WR-CALNAME:Netanya AACI
X-ORIGINAL-URL:https://netanyaaaci.org.il
X-WR-CALDESC:Events for Netanya AACI
REFRESH-INTERVAL;VALUE=DURATION:PT1H
X-Robots-Tag:noindex
X-PUBLISHED-TTL:PT1H
BEGIN:VTIMEZONE
TZID:Asia/Jerusalem
BEGIN:DAYLIGHT
TZOFFSETFROM:+0200
TZOFFSETTO:+0300
TZNAME:IDT
DTSTART:20250328T000000
END:DAYLIGHT
BEGIN:STANDARD
TZOFFSETFROM:+0300
TZOFFSETTO:+0200
TZNAME:IST
DTSTART:20251025T230000
END:STANDARD
BEGIN:DAYLIGHT
TZOFFSETFROM:+0200
TZOFFSETTO:+0300
TZNAME:IDT
DTSTART:20260327T000000
END:DAYLIGHT
BEGIN:STANDARD
TZOFFSETFROM:+0300
TZOFFSETTO:+0200
TZNAME:IST
DTSTART:20261024T230000
END:STANDARD
BEGIN:DAYLIGHT
TZOFFSETFROM:+0200
TZOFFSETTO:+0300
TZNAME:IDT
DTSTART:20270326T000000
END:DAYLIGHT
BEGIN:STANDARD
TZOFFSETFROM:+0300
TZOFFSETTO:+0200
TZNAME:IST
DTSTART:20271030T230000
END:STANDARD
END:VTIMEZONE
BEGIN:VEVENT
DTSTART;TZID=Asia/Jerusalem:20260111T193000
DTEND;TZID=Asia/Jerusalem:20260111T193000
DTSTAMP:20260422T194329
CREATED:20251205T101404Z
LAST-MODIFIED:20251205T101441Z
UID:10051179-1768159800-1768159800@netanyaaaci.org.il
SUMMARY:Yaron Hovav: Gaza - From a Pastoral Port City to a Strip of Terror
DESCRIPTION:Yaron Hovav: Gaza – From a Pastoral Port City to a Strip of Terror\n19:30 Sunday 11 January  \nThis is an in-depth lecture exploring the historical development of Gaza — from its early days as a center of trade and a coastal port city to its transformation into a hub of terror under Hamas control. We’ll examine how Gaza and the surrounding region were shaped by Israel’s wars (the War of Independence and the Six-Day War)\, and by political agreements between nations (the Egypt-Israel Peace Treaty and the Oslo Accords). \nYoran will also discuss the Disengagement Plan\, the rise of Hamas\, and finally\, the cultural and geopolitical consequences of October 7th. Combining historical analysis and geopolitical context\, he provides insight into how these developments have influenced public opinion in the region and the West. \nYaron Hovav is a certified Israeli tour guide specializing in geopolitics and in-depth tours of Israel’s borders — including the Gaza border following the events of October 7th\, as well as tours in the West Bank and along the northern border. He is experienced in presenting to both Israeli and international audiences. \nMembers Prepaid: NIS 40\nMembers at door and Non-Members: NIS 60 \nPurchase tickets below\, call the box office 09-8330950 (Sunday-Thursday 8:30-12:30) or pay at the door. \nPrepaid tickets available until noon on the day of this event. \nNearby Parking: (one block north of Netanya AACI\, approach from the north on Shmuel Hanatziv to turn right into the driveway just before the traffic circle) \nUsing Waze: https://waze.com/ul/hsv8zcjvhf \nUsing Google Maps: https://maps.app.goo.gl/teDPagS7GRUi5VzY8 \n 
URL:https://netanyaaaci.org.il/event/hovav-11january/
LOCATION:Netanya AACI\, 28 Shmuel Hanatziv\, Netanya\, Israel\, 4228132\, Israel
CATEGORIES:Lectures
ATTACH;FMTTYPE=image/jpeg:https://netanyaaaci.org.il/wp-content/uploads/2025/12/Yaron-Hovav.jpg
ORGANIZER;CN="Netanya AACI":MAILTO:info@netanyaaaci.org.il
END:VEVENT
END:VCALENDAR