BEGIN:VCALENDAR
VERSION:2.0
PRODID:-//Netanya AACI - ECPv6.15.20//NONSGML v1.0//EN
CALSCALE:GREGORIAN
METHOD:PUBLISH
X-WR-CALNAME:Netanya AACI
X-ORIGINAL-URL:https://netanyaaaci.org.il
X-WR-CALDESC:Events for Netanya AACI
REFRESH-INTERVAL;VALUE=DURATION:PT1H
X-Robots-Tag:noindex
X-PUBLISHED-TTL:PT1H
BEGIN:VTIMEZONE
TZID:Asia/Jerusalem
BEGIN:DAYLIGHT
TZOFFSETFROM:+0200
TZOFFSETTO:+0300
TZNAME:IDT
DTSTART:20250328T000000
END:DAYLIGHT
BEGIN:STANDARD
TZOFFSETFROM:+0300
TZOFFSETTO:+0200
TZNAME:IST
DTSTART:20251025T230000
END:STANDARD
BEGIN:DAYLIGHT
TZOFFSETFROM:+0200
TZOFFSETTO:+0300
TZNAME:IDT
DTSTART:20260327T000000
END:DAYLIGHT
BEGIN:STANDARD
TZOFFSETFROM:+0300
TZOFFSETTO:+0200
TZNAME:IST
DTSTART:20261024T230000
END:STANDARD
BEGIN:DAYLIGHT
TZOFFSETFROM:+0200
TZOFFSETTO:+0300
TZNAME:IDT
DTSTART:20270326T000000
END:DAYLIGHT
BEGIN:STANDARD
TZOFFSETFROM:+0300
TZOFFSETTO:+0200
TZNAME:IST
DTSTART:20271030T230000
END:STANDARD
END:VTIMEZONE
BEGIN:VEVENT
DTSTART;TZID=Asia/Jerusalem:20260127T193000
DTEND;TZID=Asia/Jerusalem:20260127T193000
DTSTAMP:20260422T214322
CREATED:20251205T100117Z
LAST-MODIFIED:20251208T135441Z
UID:10051178-1769542200-1769542200@netanyaaaci.org.il
SUMMARY:David Nekrutman: Faith\, Politics\, and Partnership - Understanding Christian Support for Israel
DESCRIPTION:David Nekrutman: Faith\, Politics\, and Partnership – Understanding Christian Support for Israel\n19:30 Tuesday 27 January \nIn Person and on Zoom \nDelving into 26 years of dedicated work in Jewish-Christian relations\, David Nekrutman\, Executive Director of The Isaiah Projects\, will share profound insights into the comprehensive Christian support for Israel and its underlying motivations. Discover an insider’s perspective on this expanding movement. Join us on January 27th for this enlightening presentation. \nDavid Nekrutman is an Orthodox Jew who is also an honorary ambassador in Jewish-Christian relations for the State of Israel\, the Jewish adviser to The Chosen and has a Masters in Biblical Literature from Oral Roberts University as well as a Masters in Social Work from the University of Pennsylvania. He lives in Netanya with his wife\, Kalanit\, and three sons\, Jonathan\, Ori and Ariel. \nNetanya AACI will make a donation to his organization\, The Isaiah Projects in lieu of an honorarium (www.theisaiahprojects.com). \nMembers Prepaid: NIS 40\nMembers at door and Non-Members: NIS 60 \nPurchase tickets below\, call the box office 09-8330950 (Sunday-Thursday 8:30-12:30) or pay at the door. \nPrepaid tickets available until noon on the day of this event. \nNearby Parking: (one block north of Netanya AACI\, approach from the north on Shmuel Hanatziv to turn right into the driveway just before the traffic circle) \nUsing Waze: https://waze.com/ul/hsv8zcjvhf \nUsing Google Maps: https://maps.app.goo.gl/teDPagS7GRUi5VzY8 \n 
URL:https://netanyaaaci.org.il/event/nekrutman-27january/
LOCATION:In Person or on Zoom\, 28 Shmuel Hanatziv\, Netanya\, Israel\, 4228132\, Israel
CATEGORIES:Lectures
ATTACH;FMTTYPE=image/jpeg:https://netanyaaaci.org.il/wp-content/uploads/2025/12/David-Nekrutman.jpg
ORGANIZER;CN="Netanya AACI":MAILTO:info@netanyaaaci.org.il
END:VEVENT
END:VCALENDAR