BEGIN:VCALENDAR
VERSION:2.0
PRODID:-//Netanya AACI - ECPv6.15.20//NONSGML v1.0//EN
CALSCALE:GREGORIAN
METHOD:PUBLISH
X-WR-CALNAME:Netanya AACI
X-ORIGINAL-URL:https://netanyaaaci.org.il
X-WR-CALDESC:Events for Netanya AACI
REFRESH-INTERVAL;VALUE=DURATION:PT1H
X-Robots-Tag:noindex
X-PUBLISHED-TTL:PT1H
BEGIN:VTIMEZONE
TZID:Asia/Jerusalem
BEGIN:DAYLIGHT
TZOFFSETFROM:+0200
TZOFFSETTO:+0300
TZNAME:IDT
DTSTART:20250328T000000
END:DAYLIGHT
BEGIN:STANDARD
TZOFFSETFROM:+0300
TZOFFSETTO:+0200
TZNAME:IST
DTSTART:20251025T230000
END:STANDARD
BEGIN:DAYLIGHT
TZOFFSETFROM:+0200
TZOFFSETTO:+0300
TZNAME:IDT
DTSTART:20260327T000000
END:DAYLIGHT
BEGIN:STANDARD
TZOFFSETFROM:+0300
TZOFFSETTO:+0200
TZNAME:IST
DTSTART:20261024T230000
END:STANDARD
BEGIN:DAYLIGHT
TZOFFSETFROM:+0200
TZOFFSETTO:+0300
TZNAME:IDT
DTSTART:20270326T000000
END:DAYLIGHT
BEGIN:STANDARD
TZOFFSETFROM:+0300
TZOFFSETTO:+0200
TZNAME:IST
DTSTART:20271030T230000
END:STANDARD
END:VTIMEZONE
BEGIN:VEVENT
DTSTART;TZID=Asia/Jerusalem:20260222T193000
DTEND;TZID=Asia/Jerusalem:20260222T193000
DTSTAMP:20260422T151102
CREATED:20251205T083415Z
LAST-MODIFIED:20251207T165958Z
UID:10051177-1771788600-1771788600@netanyaaaci.org.il
SUMMARY:Janna Helshtein: The Hidden Branch - A Journey Through Family Secrets
DESCRIPTION:Janna Helshtein: The Hidden Branch – A Journey Through Family Secrets \n19:30 Sunday 22 February \nIn person and on Zoom \nEvery family tree hides a story that was never meant to be told. \nIn this gripping lecture\, a single document ignites a decades-long mystery\, unraveling buried truths and long-lost connections. Follow the path of a teenager whose search for identity turns into a breathtaking saga of discovery\, heartbreak\, and reunion. Step into a world where the past whispers through generations\, secrets surface when least expected and love finds its way back – no matter how deeply it was buried. \nJanna Helshtein is a genetic genealogist and speaker who bridges science and storytelling. Her journey began with two personal searches that transformed her understanding of family\, identity\, and memory\, shaping a career devoted to connecting DNA data with human stories. Over the past decade\, she has delivered hundreds of lectures in Israel and abroad\, guided countless people through life-changing discoveries\, and created educational resources in Hebrew that make genetic genealogy accessible to those in Israel who find English challenging. \nThrough her lectures\, consultations\, and workshops. Janna helps individuals find clarity\, compassion\, and meaning in their results reminding everyone that every DNA test carries a story\, a heart\, and a legacy worth preserving. \nMembers Prepaid: NIS 50\nMembers at door and Non-Members: NIS 70 \nPurchase tickets below\, call the box office 09-8330950 (Sunday-Thursday 8:30-12:30) or pay at the door. \nPrepaid tickets available until noon on the day of this event. \nNearby Parking: (one block north of Netanya AACI\, approach from the north on Shmuel Hanatziv to turn right into the driveway just before the traffic circle) \nUsing Waze: https://waze.com/ul/hsv8zcjvhf \nUsing Google Maps: https://maps.app.goo.gl/teDPagS7GRUi5VzY8
URL:https://netanyaaaci.org.il/event/helshtein-22february/
LOCATION:In Person or on Zoom\, 28 Shmuel Hanatziv\, Netanya\, Israel\, 4228132\, Israel
CATEGORIES:Lectures
ATTACH;FMTTYPE=image/jpeg:https://netanyaaaci.org.il/wp-content/uploads/2025/12/Helstein-Youtube-Profile.jpg
END:VEVENT
BEGIN:VEVENT
DTSTART;TZID=Asia/Jerusalem:20260223T101500
DTEND;TZID=Asia/Jerusalem:20260223T101500
DTSTAMP:20260422T151102
CREATED:20251024T070354Z
LAST-MODIFIED:20260222T085058Z
UID:10051318-1771841700-1771841700@netanyaaaci.org.il
SUMMARY:POSTPONED. Living in Israel Series: Cleaners’ Rights
DESCRIPTION:POSTPONED. Living in Israel Series\nCleaners’ Rights\nPresented by our Counselor Yanina Musnikow\n10:15 Monday 23 February\nProgram in person and on Zoom \nThis is a workshop on the employment rights and benefits due to cleaners\, including Bituach Leumi National Insurance\, holiday pay\, pension etc. Be forewarned and know your obligations when hiring a cleaner. \nThere will be a question-and-answer period after the presentation. Please join us. \nOther dates and topics in the series:\nMonday 16 March Advanced Medical Directive aka Living Will\, DNR \nMembers NIS 25\nNon-members NIS 35 \nPurchase tickets below\, call the box office 09-8330950 or pay at the door. \nPrepaid tickets available until noon the day prior to this event. \nNearby Parking: (one block north of Netanya AACI\, approach from the north on Shmuel Hanatziv to turn right into the driveway just before the traffic circle) \nUsing Waze: https://waze.com/ul/hsv8zcjvhf \nUsing Google Maps: https://maps.app.goo.gl/teDPagS7GRUi5VzY8
URL:https://netanyaaaci.org.il/event/living-in-israel-cleanersfeb2026/
LOCATION:In Person or on Zoom\, 28 Shmuel Hanatziv\, Netanya\, Israel\, 4228132\, Israel
CATEGORIES:Lectures
ATTACH;FMTTYPE=image/jpeg:https://netanyaaaci.org.il/wp-content/uploads/2025/10/cleaner-Pixabay.jpg
ORGANIZER;CN="Netanya AACI":MAILTO:info@netanyaaaci.org.il
END:VEVENT
END:VCALENDAR