BEGIN:VCALENDAR
VERSION:2.0
PRODID:-//Netanya AACI - ECPv6.15.20//NONSGML v1.0//EN
CALSCALE:GREGORIAN
METHOD:PUBLISH
X-ORIGINAL-URL:https://netanyaaaci.org.il
X-WR-CALDESC:Events for Netanya AACI
REFRESH-INTERVAL;VALUE=DURATION:PT1H
X-Robots-Tag:noindex
X-PUBLISHED-TTL:PT1H
BEGIN:VTIMEZONE
TZID:Asia/Jerusalem
BEGIN:DAYLIGHT
TZOFFSETFROM:+0200
TZOFFSETTO:+0300
TZNAME:IDT
DTSTART:20250328T000000
END:DAYLIGHT
BEGIN:STANDARD
TZOFFSETFROM:+0300
TZOFFSETTO:+0200
TZNAME:IST
DTSTART:20251025T230000
END:STANDARD
BEGIN:DAYLIGHT
TZOFFSETFROM:+0200
TZOFFSETTO:+0300
TZNAME:IDT
DTSTART:20260327T000000
END:DAYLIGHT
BEGIN:STANDARD
TZOFFSETFROM:+0300
TZOFFSETTO:+0200
TZNAME:IST
DTSTART:20261024T230000
END:STANDARD
BEGIN:DAYLIGHT
TZOFFSETFROM:+0200
TZOFFSETTO:+0300
TZNAME:IDT
DTSTART:20270326T000000
END:DAYLIGHT
BEGIN:STANDARD
TZOFFSETFROM:+0300
TZOFFSETTO:+0200
TZNAME:IST
DTSTART:20271030T230000
END:STANDARD
END:VTIMEZONE
BEGIN:VEVENT
DTSTART;TZID=Asia/Jerusalem:20260416T090000
DTEND;TZID=Asia/Jerusalem:20260416T090000
DTSTAMP:20260420T062055
CREATED:20260227T101738Z
LAST-MODIFIED:20260410T065723Z
UID:10051616-1776330000-1776330000@netanyaaaci.org.il
SUMMARY:POSTPONED - Tiyul - Fighting for the State
DESCRIPTION:Tiyul – Fighting for the State\nThursday 16 April \nOur trip will begin at the Lechi Museum\, offering an introduction to one of the most controversial and determined underground movements during the British Mandate period. Through documents\, photographs\, and personal testimonies\, we will explore Lechi’s ideology\, methods\, and the difficult moral choices its members faced while fighting for Jewish independence. This visit will encourage discussion about radical resistance\, political vision\, and the complexity of historical judgment. \nAfter enjoying your packed lunch\, we will then continue to the Palmach Museum in Tel Aviv\, where the story expands to a broader collective experience. The museum’s immersive design and multimedia exhibits will place us alongside young Palmach fighters\, highlighting their daily lives\, training\, and role in the War of Independence. By encountering both movements in this order\, we will gain a deeper and more balanced understanding of the different paths taken toward the same goal. Together\, these visits will strengthen our appreciation of courage\, sacrifice\, and the foundations of modern Israeli society. \nMembers NIS 185 \nNon-members NIS 215 \nDepart heading south\, first pick-up:\nYoung Israel 09:55\nReturn: approx. 17:15 \nPurchase tickets below or call the box office 09-8330950 (Sunday-Thursday 8:30-12:30). Registration closes two days prior to the event. Call the box office after that to determine if there is space available. \nCall the box office to let them know your pick-up point.
URL:https://netanyaaaci.org.il/event/tiyul-fighting-for-the-state-2026/
LOCATION:Tiyul
CATEGORIES:Tiyulim/Trips
ATTACH;FMTTYPE=image/jpeg:https://netanyaaaci.org.il/wp-content/uploads/2026/02/Palmach-logo.jpg
ORGANIZER;CN="Netanya AACI":MAILTO:info@netanyaaaci.org.il
END:VEVENT
END:VCALENDAR