BEGIN:VCALENDAR
VERSION:2.0
PRODID:-//Netanya AACI - ECPv6.15.20//NONSGML v1.0//EN
CALSCALE:GREGORIAN
METHOD:PUBLISH
X-ORIGINAL-URL:https://netanyaaaci.org.il
X-WR-CALDESC:Events for Netanya AACI
REFRESH-INTERVAL;VALUE=DURATION:PT1H
X-Robots-Tag:noindex
X-PUBLISHED-TTL:PT1H
BEGIN:VTIMEZONE
TZID:Asia/Jerusalem
BEGIN:DAYLIGHT
TZOFFSETFROM:+0200
TZOFFSETTO:+0300
TZNAME:IDT
DTSTART:20240329T000000
END:DAYLIGHT
BEGIN:STANDARD
TZOFFSETFROM:+0300
TZOFFSETTO:+0200
TZNAME:IST
DTSTART:20241026T230000
END:STANDARD
BEGIN:DAYLIGHT
TZOFFSETFROM:+0200
TZOFFSETTO:+0300
TZNAME:IDT
DTSTART:20250328T000000
END:DAYLIGHT
BEGIN:STANDARD
TZOFFSETFROM:+0300
TZOFFSETTO:+0200
TZNAME:IST
DTSTART:20251025T230000
END:STANDARD
BEGIN:DAYLIGHT
TZOFFSETFROM:+0200
TZOFFSETTO:+0300
TZNAME:IDT
DTSTART:20260327T000000
END:DAYLIGHT
BEGIN:STANDARD
TZOFFSETFROM:+0300
TZOFFSETTO:+0200
TZNAME:IST
DTSTART:20261024T230000
END:STANDARD
END:VTIMEZONE
BEGIN:VEVENT
DTSTART;TZID=Asia/Jerusalem:20251027T090000
DTEND;TZID=Asia/Jerusalem:20251027T090000
DTSTAMP:20260423T015512
CREATED:20240819T065231Z
LAST-MODIFIED:20251218T083327Z
UID:10050212-1761555600-1761555600@netanyaaaci.org.il
SUMMARY:Body Balance Exercises with Irene Burg
DESCRIPTION:Body Balance Exercises \nwith Irene Burg \n09:00 Mondays ON HIATUS UNTIL FURTHER NOTICE \nHow do you stand on two feet? Do you feel a difference between the right side and the left side of your body? What happens when you raise one foot? Can you walk forward/backward? All these questions are related to balance. Irene invites you to join a new exercise class with the aim of improving your balance. \n Members NIS 30 per session\, payable at the lesson \nNon-members NIS 60 per session\, payable at the lesson
URL:https://netanyaaaci.org.il/event/bodybalance-autumn/2025-10-27/
LOCATION:Netanya AACI\, 28 Shmuel Hanatziv\, Netanya\, Israel\, 4228132\, Israel
CATEGORIES:Exercise
ATTACH;FMTTYPE=image/jpeg:https://netanyaaaci.org.il/wp-content/uploads/2024/08/Irene-Burg-Balance-exercises.jpg
ORGANIZER;CN="Netanya AACI":MAILTO:info@netanyaaaci.org.il
END:VEVENT
BEGIN:VEVENT
DTSTART;TZID=Asia/Jerusalem:20251026T193000
DTEND;TZID=Asia/Jerusalem:20251026T193000
DTSTAMP:20260423T015512
CREATED:20250708T095250Z
LAST-MODIFIED:20250822T064841Z
UID:10049873-1761507000-1761507000@netanyaaaci.org.il
SUMMARY:Harvey Bordowitz:  VIVA ESPAÑA!
DESCRIPTION:VIVA ESPAÑA! \nA Multimedia Music Lecture by Harvey Bordowitz \n19:30 Sunday 26 October \nLove and death under the blazing Spanish sun. Fiestas and flamenco\, and the seductive sounds of the guitar. Hear Spanish music as written by native composers (Albeniz\, Granados\, De Falla and Rodrigo) and great foreign composers such as Bizet\, Chabrier and Rimsky-Korsakov\, who paid tribute to Spain’s music and passion. We’ll also be talking about the Jewish connection to Spain. \nHarvey Bordowitz has been esteemed as one of this country’s most innovative and creative conductors and music directors and has guest-conducted orchestras throughout the world. \nFor over 40 years he has lectured in both Hebrew and English on a vast range of musical topics\, with humour\, erudition and a deep love of music. Harvey’s music lectures are very popular with Netanya AACI members. \nMembers pre-paid NIS 50      \nMembers at door and non-Members NIS 70  \nPurchase tickets below\, call the box office 09-8330950 or pay at the door. \nWebsite ticket option available until noon on the day of evening events and until noon the prior day for daytime events.
URL:https://netanyaaaci.org.il/event/bordowitz-espana-26oct/
LOCATION:Netanya AACI\, 28 Shmuel Hanatziv\, Netanya\, Israel\, 4228132\, Israel
CATEGORIES:Lectures,Musical Programs
ATTACH;FMTTYPE=image/jpeg:https://netanyaaaci.org.il/wp-content/uploads/2025/07/Harvey-Bordowitz-Espana.jpg
ORGANIZER;CN="Netanya AACI":MAILTO:info@netanyaaaci.org.il
END:VEVENT
END:VCALENDAR