BEGIN:VCALENDAR
VERSION:2.0
PRODID:-//Netanya AACI - ECPv6.15.20//NONSGML v1.0//EN
CALSCALE:GREGORIAN
METHOD:PUBLISH
X-ORIGINAL-URL:https://netanyaaaci.org.il
X-WR-CALDESC:Events for Netanya AACI
REFRESH-INTERVAL;VALUE=DURATION:PT1H
X-Robots-Tag:noindex
X-PUBLISHED-TTL:PT1H
BEGIN:VTIMEZONE
TZID:Asia/Jerusalem
BEGIN:DAYLIGHT
TZOFFSETFROM:+0200
TZOFFSETTO:+0300
TZNAME:IDT
DTSTART:20240329T000000
END:DAYLIGHT
BEGIN:STANDARD
TZOFFSETFROM:+0300
TZOFFSETTO:+0200
TZNAME:IST
DTSTART:20241026T230000
END:STANDARD
BEGIN:DAYLIGHT
TZOFFSETFROM:+0200
TZOFFSETTO:+0300
TZNAME:IDT
DTSTART:20250328T000000
END:DAYLIGHT
BEGIN:STANDARD
TZOFFSETFROM:+0300
TZOFFSETTO:+0200
TZNAME:IST
DTSTART:20251025T230000
END:STANDARD
BEGIN:DAYLIGHT
TZOFFSETFROM:+0200
TZOFFSETTO:+0300
TZNAME:IDT
DTSTART:20260327T000000
END:DAYLIGHT
BEGIN:STANDARD
TZOFFSETFROM:+0300
TZOFFSETTO:+0200
TZNAME:IST
DTSTART:20261024T230000
END:STANDARD
BEGIN:DAYLIGHT
TZOFFSETFROM:+0200
TZOFFSETTO:+0300
TZNAME:IDT
DTSTART:20270326T000000
END:DAYLIGHT
BEGIN:STANDARD
TZOFFSETFROM:+0300
TZOFFSETTO:+0200
TZNAME:IST
DTSTART:20271030T230000
END:STANDARD
END:VTIMEZONE
BEGIN:VEVENT
DTSTART;TZID=Asia/Jerusalem:20260323T160000
DTEND;TZID=Asia/Jerusalem:20260323T160000
DTSTAMP:20260425T144422
CREATED:20220705T105525Z
LAST-MODIFIED:20260320T101042Z
UID:10051585-1774281600-1774281600@netanyaaaci.org.il
SUMMARY:Poetry Please - Poems about Cakes and Baking - ZOOM ONLY
DESCRIPTION:Poetry Please – Poems about Cakes and Baking \n16:00 Monday 23 March \nOn Zoom Only   \nThe monthly Poetry Please activity is now in its 15th year. Selections are largely from English and American poetry\, as well as from translated Medieval Hebrew and modern Israeli poetry. Susan introduces a selection of poems on topics such as medicine\, sports\, music and place names. \nSusan taught English Literature and British Culture at colleges and universities in North East England. If you haven’t come before\, do join us and\, if you are one of the loyal regulars\, please keep coming. \nPlease purchase tickets below\, call the box office 09-8330950 or pay at the door. \nMembers: NIS 25   Non-Members: NIS 35
URL:https://netanyaaaci.org.il/event/poetryplease-mar2026/
LOCATION:In Person or on Zoom\, 28 Shmuel Hanatziv\, Netanya\, Israel\, 4228132\, Israel
CATEGORIES:Poetry Please
ATTACH;FMTTYPE=image/jpeg:https://netanyaaaci.org.il/wp-content/uploads/2020/02/Poetry-Pixabay.jpg
ORGANIZER;CN="Netanya AACI":MAILTO:info@netanyaaaci.org.il
END:VEVENT
BEGIN:VEVENT
DTSTART;TZID=Asia/Jerusalem:20260223T160000
DTEND;TZID=Asia/Jerusalem:20260223T160000
DTSTAMP:20260425T144422
CREATED:20220705T105525Z
LAST-MODIFIED:20260218T085419Z
UID:10051317-1771862400-1771862400@netanyaaaci.org.il
SUMMARY:Poetry Please - Poems about Rivers
DESCRIPTION:Poetry Please – Poems about Rivers \n16:00 Monday 23 February \nAt the Premises and on Zoom   \nThe monthly Poetry Please activity is now in its 15th year. Selections are largely from English and American poetry\, as well as from translated Medieval Hebrew and modern Israeli poetry. Susan introduces a selection of poems on topics such as medicine\, sports\, music and place names. \nSusan taught English Literature and British Culture at colleges and universities in North East England. If you haven’t come before\, do join us and\, if you are one of the loyal regulars\, please keep coming. \nPlease purchase tickets below\, call the box office 09-8330950 or pay at the door. \nMembers: NIS 25   Non-Members: NIS 35
URL:https://netanyaaaci.org.il/event/poetryplease-feb2026/
LOCATION:In Person or on Zoom\, 28 Shmuel Hanatziv\, Netanya\, Israel\, 4228132\, Israel
CATEGORIES:Poetry Please
ATTACH;FMTTYPE=image/jpeg:https://netanyaaaci.org.il/wp-content/uploads/2020/02/Poetry-Pixabay.jpg
ORGANIZER;CN="Netanya AACI":MAILTO:info@netanyaaaci.org.il
END:VEVENT
BEGIN:VEVENT
DTSTART;TZID=Asia/Jerusalem:20260119T160000
DTEND;TZID=Asia/Jerusalem:20260119T160000
DTSTAMP:20260425T144422
CREATED:20220705T105525Z
LAST-MODIFIED:20251226T105152Z
UID:10051316-1768838400-1768838400@netanyaaaci.org.il
SUMMARY:Poetry Please - Poems about Trouble(s)
DESCRIPTION:Poetry Please – Poems about Trouble(s) \n16:00 Monday 19 January \nAt the Premises and on Zoom   \nThe monthly Poetry Please activity is now in its 15th year. Selections are largely from English and American poetry\, as well as from translated Medieval Hebrew and modern Israeli poetry. Susan introduces a selection of poems on topics such as medicine\, sports\, music and place names. \nSusan taught English Literature and British Culture at colleges and universities in North East England. If you haven’t come before\, do join us and\, if you are one of the loyal regulars\, please keep coming. \nOur January theme is Poems about Trouble(s). \nPlease purchase tickets below\, call the box office 09-8330950 or pay at the door. \nMembers: NIS 25   Non-Members: NIS 35
URL:https://netanyaaaci.org.il/event/poetryplease-jan2026/
LOCATION:In Person or on Zoom\, 28 Shmuel Hanatziv\, Netanya\, Israel\, 4228132\, Israel
CATEGORIES:Poetry Please
ATTACH;FMTTYPE=image/jpeg:https://netanyaaaci.org.il/wp-content/uploads/2020/02/Poetry-Pixabay.jpg
ORGANIZER;CN="Netanya AACI":MAILTO:info@netanyaaaci.org.il
END:VEVENT
BEGIN:VEVENT
DTSTART;TZID=Asia/Jerusalem:20251222T160000
DTEND;TZID=Asia/Jerusalem:20251222T160000
DTSTAMP:20260425T144422
CREATED:20220705T105525Z
LAST-MODIFIED:20251030T072334Z
UID:10050750-1766419200-1766419200@netanyaaaci.org.il
SUMMARY:Poetry Please - Poems about Family Members
DESCRIPTION:Poetry Please – Poems about Family Members \n16:00 Monday 22 December \nAt the Premises and on Zoom   \nThe monthly Poetry Please activity is now in its 15th year. Selections are largely from English and American poetry\, as well as from translated Medieval Hebrew and modern Israeli poetry. Susan introduces a selection of poems on topics such as medicine\, sports\, music and place names. \nSusan taught English Literature and British Culture at colleges and universities in North East England. If you haven’t come before\, do join us and\, if you are one of the loyal regulars\, please keep coming. \nOur October theme is Poems about Silver. \nPlease purchase tickets below\, call the box office 09-8330950 or pay at the door. \nMembers: NIS 25   Non-Members: NIS 35
URL:https://netanyaaaci.org.il/event/poetryplease-dec2025/
LOCATION:In Person or on Zoom\, 28 Shmuel Hanatziv\, Netanya\, Israel\, 4228132\, Israel
CATEGORIES:Poetry Please
ATTACH;FMTTYPE=image/jpeg:https://netanyaaaci.org.il/wp-content/uploads/2020/02/Poetry-Pixabay.jpg
ORGANIZER;CN="Netanya AACI":MAILTO:info@netanyaaaci.org.il
END:VEVENT
BEGIN:VEVENT
DTSTART;TZID=Asia/Jerusalem:20251124T160000
DTEND;TZID=Asia/Jerusalem:20251124T160000
DTSTAMP:20260425T144422
CREATED:20220705T105525Z
LAST-MODIFIED:20251030T072203Z
UID:10050749-1764000000-1764000000@netanyaaaci.org.il
SUMMARY:Poetry Please - Poems about Silver
DESCRIPTION:Poetry Please – Poems about Silver \n16:00 Monday 24 November \nAt the Premises and on Zoom   \nThe monthly Poetry Please activity is now in its 15th year. Selections are largely from English and American poetry\, as well as from translated Medieval Hebrew and modern Israeli poetry. Susan introduces a selection of poems on topics such as medicine\, sports\, music and place names. \nSusan taught English Literature and British Culture at colleges and universities in North East England. If you haven’t come before\, do join us and\, if you are one of the loyal regulars\, please keep coming. \nOur October theme is Poems about Family Members. \nPlease purchase tickets below\, call the box office 09-8330950 or pay at the door. \nMembers: NIS 25   Non-Members: NIS 35
URL:https://netanyaaaci.org.il/event/poetryplease-nov2025/
LOCATION:In Person or on Zoom\, 28 Shmuel Hanatziv\, Netanya\, Israel\, 4228132\, Israel
CATEGORIES:Poetry Please
ATTACH;FMTTYPE=image/jpeg:https://netanyaaaci.org.il/wp-content/uploads/2020/02/Poetry-Pixabay.jpg
ORGANIZER;CN="Netanya AACI":MAILTO:info@netanyaaaci.org.il
END:VEVENT
BEGIN:VEVENT
DTSTART;TZID=Asia/Jerusalem:20251027T160000
DTEND;TZID=Asia/Jerusalem:20251027T160000
DTSTAMP:20260425T144422
CREATED:20220705T105525Z
LAST-MODIFIED:20250828T192009Z
UID:10050154-1761580800-1761580800@netanyaaaci.org.il
SUMMARY:Poetry Please - Poems about Childhood
DESCRIPTION:Poetry Please – Poems about Childhood \n16:00 Monday 27 October \nAt the Premises and on Zoom   \nThe monthly Poetry Please activity is now in its 15th year. Selections are largely from English and American poetry\, as well as from translated Medieval Hebrew and modern Israeli poetry. Susan introduces a selection of poems on topics such as medicine\, sports\, music and place names. \nSusan taught English Literature and British Culture at colleges and universities in North East England. If you haven’t come before\, do join us and\, if you are one of the loyal regulars\, please keep coming. \nOur October theme is Poems about Childhood. \nPlease purchase tickets below\, call the box office 09-8330950 or pay at the door. \nMembers: NIS 25   Non-Members: NIS 35
URL:https://netanyaaaci.org.il/event/poetryplease-oct2025/
LOCATION:In Person or on Zoom\, 28 Shmuel Hanatziv\, Netanya\, Israel\, 4228132\, Israel
CATEGORIES:Poetry Please
ATTACH;FMTTYPE=image/jpeg:https://netanyaaaci.org.il/wp-content/uploads/2020/02/Poetry-Pixabay.jpg
ORGANIZER;CN="Netanya AACI":MAILTO:info@netanyaaaci.org.il
END:VEVENT
END:VCALENDAR