BEGIN:VCALENDAR
VERSION:2.0
PRODID:-//Netanya AACI - ECPv6.15.20//NONSGML v1.0//EN
CALSCALE:GREGORIAN
METHOD:PUBLISH
X-WR-CALNAME:Netanya AACI
X-ORIGINAL-URL:https://netanyaaaci.org.il
X-WR-CALDESC:Events for Netanya AACI
REFRESH-INTERVAL;VALUE=DURATION:PT1H
X-Robots-Tag:noindex
X-PUBLISHED-TTL:PT1H
BEGIN:VTIMEZONE
TZID:Asia/Jerusalem
BEGIN:DAYLIGHT
TZOFFSETFROM:+0200
TZOFFSETTO:+0300
TZNAME:IDT
DTSTART:20240329T000000
END:DAYLIGHT
BEGIN:STANDARD
TZOFFSETFROM:+0300
TZOFFSETTO:+0200
TZNAME:IST
DTSTART:20241026T230000
END:STANDARD
BEGIN:DAYLIGHT
TZOFFSETFROM:+0200
TZOFFSETTO:+0300
TZNAME:IDT
DTSTART:20250328T000000
END:DAYLIGHT
BEGIN:STANDARD
TZOFFSETFROM:+0300
TZOFFSETTO:+0200
TZNAME:IST
DTSTART:20251025T230000
END:STANDARD
BEGIN:DAYLIGHT
TZOFFSETFROM:+0200
TZOFFSETTO:+0300
TZNAME:IDT
DTSTART:20260327T000000
END:DAYLIGHT
BEGIN:STANDARD
TZOFFSETFROM:+0300
TZOFFSETTO:+0200
TZNAME:IST
DTSTART:20261024T230000
END:STANDARD
END:VTIMEZONE
BEGIN:VEVENT
DTSTART;TZID=Asia/Jerusalem:20251104T110000
DTEND;TZID=Asia/Jerusalem:20251104T110000
DTSTAMP:20260424T024629
CREATED:20250905T125107Z
LAST-MODIFIED:20251103T200230Z
UID:10050292-1762254000-1762254000@netanyaaaci.org.il
SUMMARY:Nefesh B’Nefesh Presents: The Challenges of Making Aliyah\, Especially Later in Life
DESCRIPTION:Nefesh B’Nefesh Presents: The Challenges of Making Aliyah\, Especially Later in Life \n11:00 Tuesday 4 November (rescheduled from June) CANCELLED \nEveryone assumes that making Aliya as a retiree is much easier. After all\, there is no pressure to look for schools for your children\, you don’t need to find a job\, you even get additional subsidies; all of which provide you with the freedom to settle into and explore your new home at your leisure. This premise is not totally accurate. \nMiriam Naiman\, who has specialized in integration and absorption for new Olim since 2005\, will address the unique emotional challenges that older Olim face by leaving their friends\, family and support networks\, trying to navigate in a new culture\, often unfamiliar with Hebrew\, societal norms\, public transportation and so much more. These are key issues that are rarely considered or even discussed. \nFollowing this lecture\, staff from the NBN Answers and Advocacy team will provide support on accessing and using phone applications enabling you to better interact with different ministries as well as being available to answer your questions about: \n\nBituach Leumi\nConverting your driver’s license\nAliyah rights and benefits\nNavigating the healthcare system\nAnd any other questions or concerns you may have about life in Israel\n\nMiriam Naiman is the Senior Advisor on the Nefesh B’Nefesh Answers team. \nMembers and non-members NIS 20 at the door
URL:https://netanyaaaci.org.il/event/nbn-nov2025/
LOCATION:Netanya AACI\, 28 Shmuel Hanatziv\, Netanya\, Israel\, 4228132\, Israel
CATEGORIES:Lectures,Programs
ATTACH;FMTTYPE=image/png:https://netanyaaaci.org.il/wp-content/uploads/2023/05/NBN-Answers-graphic.png
ORGANIZER;CN="Netanya AACI":MAILTO:info@netanyaaaci.org.il
END:VEVENT
BEGIN:VEVENT
DTSTART;TZID=Asia/Jerusalem:20251111T193000
DTEND;TZID=Asia/Jerusalem:20251111T193000
DTSTAMP:20260424T024629
CREATED:20250219T163315Z
LAST-MODIFIED:20251019T110517Z
UID:10007912-1762889400-1762889400@netanyaaaci.org.il
SUMMARY:Annual Debate: Has the UN Outlived its Usefulness? The proposal is: This house believes that Israel should terminate its membership in the United Nations.
DESCRIPTION:Annual Debate \nHas the UN Outlived its Usefulness?   The proposal is: This house believes that Israel should terminate its membership in the United Nations. \nModerator: Jake Shepherd \nDebaters: Paulette Woolf and Barry Shaw \n19:30 Tuesday 11 November \n At Netanya AACI we have an obligation to familiarise our members with the intricacies of the political environment. Therefore\, we are pleased to announce that we are hosting a debate that you will not want to miss. \nDebate is an intellectual exercise and an essential tool for maintaining democracy and an open society. Through debate\, Netanya AACI aims to promote tolerance for divergent points of view in a forum where controversial issues will be examined through civil discourse. \nJake Shepherd\, Moderator: Jake is a lifelong learner whose interest spans many subjects from philosophy to philately with a special interest in human psychology and organisational culture. He is currently enrolled at the Peterson Academy where he is doing courses on Nietzsche\, Nutrition and the Intersection of Intelligence\, Rationality\, Wisdom and Spirituality. Jake graduated from Wits as an Electrical Engineer and founded a software development company\, Synthesis\, before making Aliyah to Israel in 2022. \nPaulette Woolf\, Debater: Paulette served for 20 years in a number of senior capacities at the United Nations. In addition to her position as Director of Management Audit\, she successfully established and managed a global internal management consulting function. As part of her responsibilities\, she was required to submit reports and testify to the General Assembly on the results of her audits and consultancies. Paulette is a former Co-Chair of Netanya AACI where she served from 2020-2024. She made Aliyah to Netanya with her husband David in 2016. \nBarry Shaw\, Debater:  Barry is Strategic Affairs Associate at the Israel Institute for Strategic Studies. He is the author of several books including Fighting Hamas\, BDS & Antisemitism and Israel Reclaiming The Narrative. Barry is also the Host of “The View from Israel” video show seen on YouTube and Rumble. \nAfter opening presentations\, there will be an opportunity for the audience to contribute to the discussion. \nThis is certain to be a lively evening. \n Members pre-paid NIS 50                  \nMembers at door and Non-Members NIS 70 \nPurchase tickets below or call the box office at 09-8330950 or pay at the door. \nWebsite ticket option available until noon on the day of evening events and until noon the prior day for daytime events.
URL:https://netanyaaaci.org.il/event/debate-11nov/
LOCATION:Netanya AACI\, 28 Shmuel Hanatziv\, Netanya\, Israel\, 4228132\, Israel
CATEGORIES:Programs
ATTACH;FMTTYPE=image/jpeg:https://netanyaaaci.org.il/wp-content/uploads/2025/02/Debate-hi-res.jpg
ORGANIZER;CN="Netanya AACI":MAILTO:info@netanyaaaci.org.il
END:VEVENT
BEGIN:VEVENT
DTSTART;TZID=Asia/Jerusalem:20251127T153000
DTEND;TZID=Asia/Jerusalem:20251127T153000
DTSTAMP:20260424T024629
CREATED:20251023T144727Z
LAST-MODIFIED:20251125T072636Z
UID:10050756-1764257400-1764257400@netanyaaaci.org.il
SUMMARY:Special Thanksgiving Celebration
DESCRIPTION:Special Thanksgiving Celebration\n15:30 Thursday 27 November – CANCELLED \nJoin us for a Thanksgiving Celebration filled with good friends\, an assortment of delicious pies\, a few lively games of BINGO led by Martin Carr\, and lots of great prizes! \nMembers pre-paid NIS 55 \nMembers at door and non-Members NIS 70 \nTickets available below\, call the box office 09-8330950 or pay at the door. Prepaid tickets available until noon the day prior to this event.
URL:https://netanyaaaci.org.il/event/thanksgiving-2025/
LOCATION:Netanya AACI\, 28 Shmuel Hanatziv\, Netanya\, Israel\, 4228132\, Israel
CATEGORIES:Programs,Special Events
ATTACH;FMTTYPE=image/jpeg:https://netanyaaaci.org.il/wp-content/uploads/2025/10/happy-thanksgiving-pixabay.jpg
ORGANIZER;CN="Netanya AACI":MAILTO:info@netanyaaaci.org.il
END:VEVENT
END:VCALENDAR