BEGIN:VCALENDAR
VERSION:2.0
PRODID:-//Netanya AACI - ECPv6.15.20//NONSGML v1.0//EN
CALSCALE:GREGORIAN
METHOD:PUBLISH
X-WR-CALNAME:Netanya AACI
X-ORIGINAL-URL:https://netanyaaaci.org.il
X-WR-CALDESC:Events for Netanya AACI
REFRESH-INTERVAL;VALUE=DURATION:PT1H
X-Robots-Tag:noindex
X-PUBLISHED-TTL:PT1H
BEGIN:VTIMEZONE
TZID:Asia/Jerusalem
BEGIN:DAYLIGHT
TZOFFSETFROM:+0200
TZOFFSETTO:+0300
TZNAME:IDT
DTSTART:20240329T000000
END:DAYLIGHT
BEGIN:STANDARD
TZOFFSETFROM:+0300
TZOFFSETTO:+0200
TZNAME:IST
DTSTART:20241026T230000
END:STANDARD
BEGIN:DAYLIGHT
TZOFFSETFROM:+0200
TZOFFSETTO:+0300
TZNAME:IDT
DTSTART:20250328T000000
END:DAYLIGHT
BEGIN:STANDARD
TZOFFSETFROM:+0300
TZOFFSETTO:+0200
TZNAME:IST
DTSTART:20251025T230000
END:STANDARD
BEGIN:DAYLIGHT
TZOFFSETFROM:+0200
TZOFFSETTO:+0300
TZNAME:IDT
DTSTART:20260327T000000
END:DAYLIGHT
BEGIN:STANDARD
TZOFFSETFROM:+0300
TZOFFSETTO:+0200
TZNAME:IST
DTSTART:20261024T230000
END:STANDARD
END:VTIMEZONE
BEGIN:VEVENT
DTSTART;TZID=Asia/Jerusalem:20251201T160000
DTEND;TZID=Asia/Jerusalem:20251201T160000
DTSTAMP:20260423T202916
CREATED:20251024T060638Z
LAST-MODIFIED:20251024T060638Z
UID:10050757-1764604800-1764604800@netanyaaaci.org.il
SUMMARY:New Members’ Celebration 
DESCRIPTION:New Members’ Celebration \n16:00 Monday 1 December \nDid you join Netanya AACI during 2025? If so\, we want you! \nThis past year we welcomed many new members. They include newly-retired Anglos who headed to Netanya to realise their dream of living in Israel. Many young families also find Netanya attractive because of its location. Vatikim who move to Netanya enjoy becoming part of our very active English-speaking community. \nWe invite all our new members to join us for an afternoon of information. It is a perfect opportunity to meet other Netanya AACI newcomers. \nWe are looking forward to meeting you – or if we have already met you\, getting to know you even better! \nPlease call our Box Office 09-8330950 to RSVP by Thursday 27 November.\nNo charge for this event. \n  \n 
URL:https://netanyaaaci.org.il/event/newmembers-2025/
LOCATION:Netanya AACI\, 28 Shmuel Hanatziv\, Netanya\, Israel\, 4228132\, Israel
CATEGORIES:Programs
ATTACH;FMTTYPE=image/jpeg:https://netanyaaaci.org.il/wp-content/uploads/2025/10/newcommers.jpg
ORGANIZER;CN="Netanya AACI":MAILTO:info@netanyaaaci.org.il
END:VEVENT
BEGIN:VEVENT
DTSTART;TZID=Asia/Jerusalem:20251215T193000
DTEND;TZID=Asia/Jerusalem:20251215T193000
DTSTAMP:20260423T202916
CREATED:20251024T065207Z
LAST-MODIFIED:20251207T070001Z
UID:10050760-1765827000-1765827000@netanyaaaci.org.il
SUMMARY:Chanukah Joke Night
DESCRIPTION:Chanukah Joke Night\n19:30 Monday 15 December \nGet ready for a night of jokes\, joy and jam filled sweetness! \nJoin us for a hilarious Chanukah Joke Night! Enjoy delicious sufganiot and latkes\, and come prepared to tell us your favourite joke when we hand the microphone to YOU! \nMembers pre-paid NIS 55\nMembers at door and non-Members NIS 75 \nPurchase tickets below\, call the box office 09-8330950 or pay at the door. \nPrepaid tickets available until noon on the day of this event. \nNearby Parking: (one block north of Netanya AACI\, approach from the north on Shmuel Hanatziv to turn right into the driveway just before the traffic circle) \nUsing Waze: https://waze.com/ul/hsv8zcjvhf \nUsing Google Maps: https://maps.app.goo.gl/teDPagS7GRUi5VzY8
URL:https://netanyaaaci.org.il/event/chanukah-joke-night/
LOCATION:Netanya AACI\, 28 Shmuel Hanatziv\, Netanya\, Israel\, 4228132\, Israel
CATEGORIES:Programs
ATTACH;FMTTYPE=image/jpeg:https://netanyaaaci.org.il/wp-content/uploads/2025/10/menorah.jpg
ORGANIZER;CN="Netanya AACI":MAILTO:info@netanyaaaci.org.il
END:VEVENT
END:VCALENDAR