BEGIN:VCALENDAR
VERSION:2.0
PRODID:-//Netanya AACI - ECPv6.15.20//NONSGML v1.0//EN
CALSCALE:GREGORIAN
METHOD:PUBLISH
X-WR-CALNAME:Netanya AACI
X-ORIGINAL-URL:https://netanyaaaci.org.il
X-WR-CALDESC:Events for Netanya AACI
REFRESH-INTERVAL;VALUE=DURATION:PT1H
X-Robots-Tag:noindex
X-PUBLISHED-TTL:PT1H
BEGIN:VTIMEZONE
TZID:Asia/Jerusalem
BEGIN:DAYLIGHT
TZOFFSETFROM:+0200
TZOFFSETTO:+0300
TZNAME:IDT
DTSTART:20250328T000000
END:DAYLIGHT
BEGIN:STANDARD
TZOFFSETFROM:+0300
TZOFFSETTO:+0200
TZNAME:IST
DTSTART:20251025T230000
END:STANDARD
BEGIN:DAYLIGHT
TZOFFSETFROM:+0200
TZOFFSETTO:+0300
TZNAME:IDT
DTSTART:20260327T000000
END:DAYLIGHT
BEGIN:STANDARD
TZOFFSETFROM:+0300
TZOFFSETTO:+0200
TZNAME:IST
DTSTART:20261024T230000
END:STANDARD
BEGIN:DAYLIGHT
TZOFFSETFROM:+0200
TZOFFSETTO:+0300
TZNAME:IDT
DTSTART:20270326T000000
END:DAYLIGHT
BEGIN:STANDARD
TZOFFSETFROM:+0300
TZOFFSETTO:+0200
TZNAME:IST
DTSTART:20271030T230000
END:STANDARD
END:VTIMEZONE
BEGIN:VEVENT
DTSTART;TZID=Asia/Jerusalem:20260113T190000
DTEND;TZID=Asia/Jerusalem:20260113T190000
DTSTAMP:20260423T190337
CREATED:20251226T084456Z
LAST-MODIFIED:20251226T084456Z
UID:10051310-1768330800-1768330800@netanyaaaci.org.il
SUMMARY:Netanya Mayoral Debate in English
DESCRIPTION:Netanya Mayoral Debate in English \n19:00 Tuesday 13 January \nAt Bet Israel Masorti Congregation (2nd floor) \n19 Yehuda Hanassi Street\, Netanya \nYou are invited to the Netanya Mayoral Election Debate of the English-speaking community of approximately 12\,000 residents. The debate is sponsored by all English-speaking organizations: Netanya AACI\, ESRA\, HOB\, and TELFED. \nModerator: Yoni Ariel – former editor of Maariv International\, Jerusalem Online and the news editor of Makor Rishon. Yoni is the President of Kehilat Kadesh Bet Israel. \nSince this is a personal election for mayor and not for the council\, candidates have been asked to come in person and not send a representative. \nYou are invited to send in your questions for the candidates for consideration by the moderator by Wednesday 31 December. Send to office@bet-israel.org.il with a copy to president@bet-israel.org.il \nSchedule \n\n\n\n18:30 -19:00\nReception\n\n\n19:00-19:15\nEach candidate will present themselves – 4 minutes per candidate\n\n\n19:15-19:45\nModerator’s questions to each candidate- 5 minutes response time\n\n\n19:45-20:15\nEach candidate can ask one question to another candidate – 5 minutes response time\n\n\n20:15-20:30\nCoffee break\n\n\n20:30-21:00\n2nd round moderator’s questions\, submitted by participants in advance – 5 minutes response time\n\n\n21:00-21:30\nQuestions from floor\n\n\n21:30\nSummary closing remarks\n\n\n\n  \nNo charge for this event.
URL:https://netanyaaaci.org.il/event/mayoral-debate-jan2026/
LOCATION:Bet Israel\, Yehuda Hanasi 19\, Netanya\, Yehuda Nanasi 19\, Netanya\, Israel
CATEGORIES:Programs
ATTACH;FMTTYPE=image/png:https://netanyaaaci.org.il/wp-content/uploads/2023/05/debate.png
ORGANIZER;CN="Bet Israel Masorti Congregation":MAILTO:office@bet-israel.org.il
END:VEVENT
END:VCALENDAR