BEGIN:VCALENDAR
VERSION:2.0
PRODID:-//Netanya AACI - ECPv6.15.20//NONSGML v1.0//EN
CALSCALE:GREGORIAN
METHOD:PUBLISH
X-WR-CALNAME:Netanya AACI
X-ORIGINAL-URL:https://netanyaaaci.org.il
X-WR-CALDESC:Events for Netanya AACI
REFRESH-INTERVAL;VALUE=DURATION:PT1H
X-Robots-Tag:noindex
X-PUBLISHED-TTL:PT1H
BEGIN:VTIMEZONE
TZID:Asia/Jerusalem
BEGIN:DAYLIGHT
TZOFFSETFROM:+0200
TZOFFSETTO:+0300
TZNAME:IDT
DTSTART:20240329T000000
END:DAYLIGHT
BEGIN:STANDARD
TZOFFSETFROM:+0300
TZOFFSETTO:+0200
TZNAME:IST
DTSTART:20241026T230000
END:STANDARD
BEGIN:DAYLIGHT
TZOFFSETFROM:+0200
TZOFFSETTO:+0300
TZNAME:IDT
DTSTART:20250328T000000
END:DAYLIGHT
BEGIN:STANDARD
TZOFFSETFROM:+0300
TZOFFSETTO:+0200
TZNAME:IST
DTSTART:20251025T230000
END:STANDARD
BEGIN:DAYLIGHT
TZOFFSETFROM:+0200
TZOFFSETTO:+0300
TZNAME:IDT
DTSTART:20260327T000000
END:DAYLIGHT
BEGIN:STANDARD
TZOFFSETFROM:+0300
TZOFFSETTO:+0200
TZNAME:IST
DTSTART:20261024T230000
END:STANDARD
END:VTIMEZONE
BEGIN:VEVENT
DTSTART;TZID=Asia/Jerusalem:20251102T093000
DTEND;TZID=Asia/Jerusalem:20251102T093000
DTSTAMP:20260423T002650
CREATED:20241001T154653Z
LAST-MODIFIED:20250908T191439Z
UID:10049888-1762075800-1762075800@netanyaaaci.org.il
SUMMARY:Zumba Gold Summer
DESCRIPTION:Zumba Gold \n9:30-10:15 Sundays and 9:00-9:45 Tuesdays  \nOur class is for active older adults who are looking for a modified Zumba class that recreates the original moves at a lower intensity. \nYou will enjoy Shlomit’s positive spirit\, humour\, and the personal attention she gives to each one of her students. You will come out with a smile! \nThe design of the class introduces easy-to-follow Zumba choreography that focuses on balance\, range of motion and coordination. \nCome ready to sweat and prepare to leave empowered and feeling strong. The class focuses on all elements of fitness: cardiovascular\, muscular conditioning\, flexibility and balance! \nShlomit Stroh\, dancer\, actor and singer\, taught Zumba Gold and song and dance to Latin music all over South America. She spreads the joy at Netanya AACI. \n Members NIS 35 per session\, payable at the lesson \nNon-members NIS 70 per session\, payable at the lesson
URL:https://netanyaaaci.org.il/event/zumba-aug2025/2025-11-02/
LOCATION:Netanya AACI\, 28 Shmuel Hanatziv\, Netanya\, Israel\, 4228132\, Israel
CATEGORIES:Exercise
ATTACH;FMTTYPE=image/jpeg:https://netanyaaaci.org.il/wp-content/uploads/2019/06/Shlomit-Stroh.jpg
ORGANIZER;CN="Netanya AACI":MAILTO:info@netanyaaaci.org.il
END:VEVENT
BEGIN:VEVENT
DTSTART;TZID=Asia/Jerusalem:20251102T123000
DTEND;TZID=Asia/Jerusalem:20251102T123000
DTSTAMP:20260423T002650
CREATED:20220705T094837Z
LAST-MODIFIED:20251015T062429Z
UID:10050751-1762086600-1762086600@netanyaaaci.org.il
SUMMARY:Writers’ Aerobics
DESCRIPTION:Writers’ Aerobics\n \nWith Shashi Ishai \n12:30 Sunday 2 November \nShashi Ishai leads our monthly Writers’ Aerobics workshop\, a small\, intimate group of writers\, at all stages of developing writing skills. \nAll come from different backgrounds\, ages and life experiences.  In class\, from a one sentence “prompt”\, each writer focuses his/her creative juices and imagination and\, as a result\, no story is the same. Each has its own unique imprint. \nWe write within a nurturing\, supportive environment of fun-loving people. \nSounds daunting? \nEven if you have never written anything more than a shopping list\, Shashi dares you to come and see for yourself. You will not be disappointed! \n  \nMembers: NIS 25 per session\nNon-members: NIS 35 per session \nPlease pay at the door or via ticket below.
URL:https://netanyaaaci.org.il/event/writersaerobics-nov2025/
LOCATION:Netanya AACI\, 28 Shmuel Hanatziv\, Netanya\, Israel\, 4228132\, Israel
CATEGORIES:Writers Aerobics
ATTACH;FMTTYPE=image/jpeg:https://netanyaaaci.org.il/wp-content/uploads/2021/06/writer-pixabay-1.jpg
ORGANIZER;CN="Netanya AACI":MAILTO:info@netanyaaaci.org.il
END:VEVENT
BEGIN:VEVENT
DTSTART;TZID=Asia/Jerusalem:20251102T193000
DTEND;TZID=Asia/Jerusalem:20251102T193000
DTSTAMP:20260423T002650
CREATED:20250312T190031Z
LAST-MODIFIED:20251015T102016Z
UID:10007994-1762111800-1762111800@netanyaaaci.org.il
SUMMARY:Café Netanya Presents: Ziv Eitan
DESCRIPTION:Café Netanya Presents: Ziv Eitan\n19:30 Sunday 2 November \nat Netanya AACI\, 28 Shmuel Hanatziv\, Netanya \n(This concert has been rescheduled from June) \nJoin Ziv Eitan\, an internationally recognized master of music\, in an extraordinary evening of pop\, classical music and jazz. Ziv is a virtuoso of percussion\, vibraphone\, marimba and more. His concerts are a unique experience of precision\, innovation and world music. His captivating energy and enthusiasm draw audiences into his thrilling performance. \nZiv will be accompanied on stage by an acclaimed guitarist\, Amichai Shiryon. \nAnd in the finale\, some members of the audience will be invited on stage to participate! \nThis event is co-sponsored by Nefesh B’Nefesh. \nMembers pre-paid: NIS 50\nNon-members and members at the door: NIS 70 \nPurchase tickets below\, call the box office 09-8330950 or pay at the door. \nWebsite ticket option available until noon on the day of evening events and until noon the prior day for daytime events.
URL:https://netanyaaaci.org.il/event/ziv-eitan-2nov/
LOCATION:Netanya AACI\, 28 Shmuel Hanatziv\, Netanya\, Israel\, 4228132\, Israel
CATEGORIES:Cafe Netanya,Musical Programs
ORGANIZER;CN="Netanya AACI":MAILTO:info@netanyaaaci.org.il
END:VEVENT
BEGIN:VEVENT
DTSTART;TZID=Asia/Jerusalem:20251103T110000
DTEND;TZID=Asia/Jerusalem:20251103T110000
DTSTAMP:20260423T002650
CREATED:20240811T124147Z
LAST-MODIFIED:20250905T140442Z
UID:10007984-1762167600-1762167600@netanyaaaci.org.il
SUMMARY:Chess Club
DESCRIPTION:Chess Club \n11:00 Mondays  \nChess Club and Lessons – Beginner and Intermediate \nInstructor: Barry Schneider \nBarry is a chess expert and was one of the 15th best chess players in Manchester\, England as a teenager. \nCome learn the game of kings! and play with your competition! \nMembers NIS 25 \nNon-members NIS 35 \nPayable at the door. \nFor information call the box office at 098330950.
URL:https://netanyaaaci.org.il/event/chess-club-new-2-2-2-2-2/2025-11-03/
LOCATION:Netanya AACI\, 28 Shmuel Hanatziv\, Netanya\, Israel\, 4228132\, Israel
CATEGORIES:Chugim
ATTACH;FMTTYPE=image/jpeg:https://netanyaaaci.org.il/wp-content/uploads/2024/02/Chess-Photo-1.jpg
ORGANIZER;CN="Netanya AACI":MAILTO:info@netanyaaaci.org.il
END:VEVENT
BEGIN:VEVENT
DTSTART;TZID=Asia/Jerusalem:20251104T093000
DTEND;TZID=Asia/Jerusalem:20251104T093000
DTSTAMP:20260423T002650
CREATED:20241217T084632Z
LAST-MODIFIED:20251031T090115Z
UID:10051120-1762248600-1762248600@netanyaaaci.org.il
SUMMARY:Zumba Gold
DESCRIPTION:Zumba Gold \n9:30-10:15 Sundays and Tuesdays  \nOur class is for active older adults who are looking for a modified Zumba class that recreates the original moves at a lower intensity. \nYou will enjoy Shlomit’s positive spirit\, humour\, and the personal attention she gives to each one of her students. You will come out with a smile! \nThe design of the class introduces easy-to-follow Zumba choreography that focuses on balance\, range of motion and coordination. \nCome ready to sweat and prepare to leave empowered and feeling strong. The class focuses on all elements of fitness: cardiovascular\, muscular conditioning\, flexibility and balance! \nShlomit Stroh\, dancer\, actor and singer\, taught Zumba Gold and song and dance to Latin music all over South America. She spreads the joy at Netanya AACI. \n Members NIS 35 per session\, payable at the lesson \nNon-members NIS 70 per session\, payable at the lesson
URL:https://netanyaaaci.org.il/event/zumbagoldtuesdays-2/2025-11-04/
LOCATION:Netanya AACI\, 28 Shmuel Hanatziv\, Netanya\, Israel\, 4228132\, Israel
CATEGORIES:Exercise
ATTACH;FMTTYPE=image/jpeg:https://netanyaaaci.org.il/wp-content/uploads/2019/06/Shlomit-Stroh.jpg
ORGANIZER;CN="Netanya AACI":MAILTO:info@netanyaaaci.org.il
END:VEVENT
BEGIN:VEVENT
DTSTART;TZID=Asia/Jerusalem:20251104T110000
DTEND;TZID=Asia/Jerusalem:20251104T110000
DTSTAMP:20260423T002650
CREATED:20250905T125107Z
LAST-MODIFIED:20251103T200230Z
UID:10050292-1762254000-1762254000@netanyaaaci.org.il
SUMMARY:Nefesh B’Nefesh Presents: The Challenges of Making Aliyah\, Especially Later in Life
DESCRIPTION:Nefesh B’Nefesh Presents: The Challenges of Making Aliyah\, Especially Later in Life \n11:00 Tuesday 4 November (rescheduled from June) CANCELLED \nEveryone assumes that making Aliya as a retiree is much easier. After all\, there is no pressure to look for schools for your children\, you don’t need to find a job\, you even get additional subsidies; all of which provide you with the freedom to settle into and explore your new home at your leisure. This premise is not totally accurate. \nMiriam Naiman\, who has specialized in integration and absorption for new Olim since 2005\, will address the unique emotional challenges that older Olim face by leaving their friends\, family and support networks\, trying to navigate in a new culture\, often unfamiliar with Hebrew\, societal norms\, public transportation and so much more. These are key issues that are rarely considered or even discussed. \nFollowing this lecture\, staff from the NBN Answers and Advocacy team will provide support on accessing and using phone applications enabling you to better interact with different ministries as well as being available to answer your questions about: \n\nBituach Leumi\nConverting your driver’s license\nAliyah rights and benefits\nNavigating the healthcare system\nAnd any other questions or concerns you may have about life in Israel\n\nMiriam Naiman is the Senior Advisor on the Nefesh B’Nefesh Answers team. \nMembers and non-members NIS 20 at the door
URL:https://netanyaaaci.org.il/event/nbn-nov2025/
LOCATION:Netanya AACI\, 28 Shmuel Hanatziv\, Netanya\, Israel\, 4228132\, Israel
CATEGORIES:Lectures,Programs
ATTACH;FMTTYPE=image/png:https://netanyaaaci.org.il/wp-content/uploads/2023/05/NBN-Answers-graphic.png
ORGANIZER;CN="Netanya AACI":MAILTO:info@netanyaaaci.org.il
END:VEVENT
BEGIN:VEVENT
DTSTART;TZID=Asia/Jerusalem:20251105T093000
DTEND;TZID=Asia/Jerusalem:20251105T093000
DTSTAMP:20260423T002650
CREATED:20251030T072014Z
LAST-MODIFIED:20260304T171053Z
UID:10050835-1762335000-1762335000@netanyaaaci.org.il
SUMMARY:Art Class - with Ruth Lenk
DESCRIPTION: Art Classes With Ruth Lenk \n9.30 Wednesdays \nForget that Art enhances fine motor skills\, hand-eye coordination\, problem solving skills\, lateral thinking\, complex analysis and critical thinking skills. Art is fun! And you don’t need to have any experience to produce beautiful work. \nI’ve heard that there are two steps to success: 1. Start 2. Carry on. \nTake that first step by joining our Art class. We meet every Wednesday morning from 9.30-11.30. \nThen\, work with me to develop the techniques you want to master: pencil\, watercolors\, chalk\, pastel\, acrylic\, collage. I am an experienced artist and teacher (let’s not count the years – but over 40) and I want to help you learn to express yourself artistically in a supportive and encouraging environment. \nMembers: NIS 60 per lesson  \nNon-members: NIS 120 per lesson \nPayable at the Box Office per four weeks \n 
URL:https://netanyaaaci.org.il/event/artclasses2025-2/2025-11-05/
LOCATION:Netanya AACI\, 28 Shmuel Hanatziv\, Netanya\, Israel\, 4228132\, Israel
CATEGORIES:Art Classes
ATTACH;FMTTYPE=image/png:https://netanyaaaci.org.il/wp-content/uploads/2018/12/art-new.png
ORGANIZER;CN="Netanya AACI":MAILTO:info@netanyaaaci.org.il
END:VEVENT
BEGIN:VEVENT
DTSTART;VALUE=DATE:20251106
DTEND;VALUE=DATE:20251110
DTSTAMP:20260423T002650
CREATED:20250608T072701Z
LAST-MODIFIED:20250825T132335Z
UID:10049311-1762387200-1762732799@netanyaaaci.org.il
SUMMARY:Tiyul - Incredible Dead Sea Getaway
DESCRIPTION:Incredible Dead Sea Getaway \nThursday 6 November to Sunday 9 November \nJoin us for a unique adventure that combines three days of touring (two days guided) and a beautiful Shabbat in the Dead Sea area \nGuide: Yoni Lightstone\nScholar in Residence: Rabbi David Woolf \nAccomodation: Isrotel Nevo\, Dead Sea: The hotel\, nestled at the foot of the majestic mountains that frame the Dead Sea\, offers spectacular views with the shore just moments away. Guests enjoy complimentary beach services and every room has a balcony. The famous Dead Sea treatments can be experienced at the hotel’s own Esprit Spa\, which offer dozens of body and beauty treatments. The hotel houses one of the best dining rooms in the region. \nThursday 6 November\n• Investigate the complex mosaics in the Good Samaritan museum\n• Explore Qumran where the Dead Sea Scrolls were discovered\n• Admire the Synagogue at Ein Gedi\n• Supper \nFriday 7 November\n• Extensive tour of historic Masada\n• Free time to enjoy hotel facilities\n• Kabbalat Shabbat prayers at hotel synagogue\n• Shabbat supper followed by fascinating programme with Rabbi David Woolf \nShabbat 8 November\n• Shabbat prayers at hotel synagogue\n• Delicious Shabbat lunch at Isrotel Nevo followed by an afternoon program with Rabbi David Woolf\n• Social evening – take advantage of the spa services and other hotel amenities \nSunday 9 November\n• Visit the new Dead Sea Works Museum – unique audio-visual experience that will amaze you\n• Tour the beautifully green Ein Feshcha nature reserve and archaeological site \nPrice includes: \nTransport from and to Netanya; three nights half board and Shabbat lunch at Isrotel Nevo\,\nlunch Friday 7 November and Sunday 9 November\, all entrance fees and all gratuities \nPrice excludes:  \nTransport to meet bus en-route from Netanya\, lunch Thursday 6 November (bring your own packed lunch)\, treatments at the hotel \nPlease note participants must be in good health and not require walking assistance \nDepart: Netanya 07:30 Thursday 6 November – Return: Netanya 17:30 Sunday 9 November \nMinimum number of participants required.\nItinerary is subject to change without notice.\nAll participants must complete a registration form \nPrice per person sharing double room:\nAACI Members:\nEarly Bird: NIS 3350\nAfter 21/9/25: NIS 3500 \nNon-members: NIS 3600 \nSingle Supplement: NIS 2125 \nPrice includes a non-refundable reservation fee of NIS 250\nFurther details and reservations:\nNetanya Box Office: 09 8330950\nEmail: boxoffice@netanyaaaci org il
URL:https://netanyaaaci.org.il/event/deadsea-november2025/
LOCATION:Tiyul
CATEGORIES:Tiyulim/Trips
ATTACH;FMTTYPE=image/jpeg:https://netanyaaaci.org.il/wp-content/uploads/2025/06/dead-sea-getaway.jpg
ORGANIZER;CN="Netanya AACI":MAILTO:info@netanyaaaci.org.il
END:VEVENT
BEGIN:VEVENT
DTSTART;TZID=Asia/Jerusalem:20251106T083000
DTEND;TZID=Asia/Jerusalem:20251106T093000
DTSTAMP:20260423T002650
CREATED:20250518T061913Z
LAST-MODIFIED:20260304T171346Z
UID:10049016-1762417800-1762421400@netanyaaaci.org.il
SUMMARY:Exercises for Women with Orly Sasson
DESCRIPTION:Exercises for Women  \nwith Orly Sasson  \n8:30 – 9:30 Thursdays \nOrly Sasson is proud of all the ladies who continued with her exercise class during the lockdown. She now invites new members to join her osteoporosis-prevention class. Every Thursday\, you can enjoy exercising to music and a peaceful meditation at the end of each lesson. \nOrly’s lessons emphasize the importance of positive thinking and relaxation after exercise. Classes are accompanied by soothing music. \nMembers: NIS 50 per lesson payable at the lesson \nNon-members: NIS 100 per lesson payable at the lesson \n  \n 
URL:https://netanyaaaci.org.il/event/exercisesforwomen2025/2025-11-06/
LOCATION:Netanya AACI\, 28 Shmuel Hanatziv\, Netanya\, Israel\, 4228132\, Israel
CATEGORIES:Exercise
ATTACH;FMTTYPE=image/jpeg:https://netanyaaaci.org.il/wp-content/uploads/2021/06/Orlys-exercise-group.jpg
ORGANIZER;CN="Netanya AACI":MAILTO:info@netanyaaaci.org.il
END:VEVENT
BEGIN:VEVENT
DTSTART;TZID=Asia/Jerusalem:20251106T100000
DTEND;TZID=Asia/Jerusalem:20251106T100000
DTSTAMP:20260423T002650
CREATED:20241103T201046Z
LAST-MODIFIED:20250908T190604Z
UID:10049543-1762423200-1762423200@netanyaaaci.org.il
SUMMARY:Yoga/Chi Kung - with Dr. Lisel Badach
DESCRIPTION:Yoga/Chi Kung – with Dr. Lisel Badach \n10:00 Thursdays \nOpen your channels and free your energy while practicing a harmonious blend of Yoga and Chi Kung that will bring about the benefits of both in a synergetic effect: spontaneously developing within you the talent of easily combining serenity and alertness\, and creating a more meaningful life. \nDr. Lisel Badach\, Physician MD\, has practiced privately and in hospitals in Paris\, UMDNJ USA\, and Haifa. She acquired certifications and licences in many kinds of alternative medicine approaches including meditation\, massage\, shiatsu\, healing of the soul\, psychology\, etc. \nMembers NIS 30 per session     Non-Members NIS 60 per session \nPay at the door.
URL:https://netanyaaaci.org.il/event/yogasep2025/2025-11-06/
LOCATION:Netanya AACI\, 28 Shmuel Hanatziv\, Netanya\, Israel\, 4228132\, Israel
CATEGORIES:Exercise
ATTACH;FMTTYPE=image/jpeg:https://netanyaaaci.org.il/wp-content/uploads/2024/08/yoga-pixabay.jpg
ORGANIZER;CN="Netanya AACI":MAILTO:info@netanyaaaci.org.il
END:VEVENT
END:VCALENDAR