BEGIN:VCALENDAR
VERSION:2.0
PRODID:-//Netanya AACI - ECPv6.15.20//NONSGML v1.0//EN
CALSCALE:GREGORIAN
METHOD:PUBLISH
X-ORIGINAL-URL:https://netanyaaaci.org.il
X-WR-CALDESC:Events for Netanya AACI
REFRESH-INTERVAL;VALUE=DURATION:PT1H
X-Robots-Tag:noindex
X-PUBLISHED-TTL:PT1H
BEGIN:VTIMEZONE
TZID:Asia/Jerusalem
BEGIN:DAYLIGHT
TZOFFSETFROM:+0200
TZOFFSETTO:+0300
TZNAME:IDT
DTSTART:20240329T000000
END:DAYLIGHT
BEGIN:STANDARD
TZOFFSETFROM:+0300
TZOFFSETTO:+0200
TZNAME:IST
DTSTART:20241026T230000
END:STANDARD
BEGIN:DAYLIGHT
TZOFFSETFROM:+0200
TZOFFSETTO:+0300
TZNAME:IDT
DTSTART:20250328T000000
END:DAYLIGHT
BEGIN:STANDARD
TZOFFSETFROM:+0300
TZOFFSETTO:+0200
TZNAME:IST
DTSTART:20251025T230000
END:STANDARD
BEGIN:DAYLIGHT
TZOFFSETFROM:+0200
TZOFFSETTO:+0300
TZNAME:IDT
DTSTART:20260327T000000
END:DAYLIGHT
BEGIN:STANDARD
TZOFFSETFROM:+0300
TZOFFSETTO:+0200
TZNAME:IST
DTSTART:20261024T230000
END:STANDARD
END:VTIMEZONE
BEGIN:VEVENT
DTSTART;TZID=Asia/Jerusalem:20251116T093000
DTEND;TZID=Asia/Jerusalem:20251116T093000
DTSTAMP:20260422T222054
CREATED:20241001T154653Z
LAST-MODIFIED:20250908T191439Z
UID:10049890-1763285400-1763285400@netanyaaaci.org.il
SUMMARY:Zumba Gold Summer
DESCRIPTION:Zumba Gold \n9:30-10:15 Sundays and 9:00-9:45 Tuesdays  \nOur class is for active older adults who are looking for a modified Zumba class that recreates the original moves at a lower intensity. \nYou will enjoy Shlomit’s positive spirit\, humour\, and the personal attention she gives to each one of her students. You will come out with a smile! \nThe design of the class introduces easy-to-follow Zumba choreography that focuses on balance\, range of motion and coordination. \nCome ready to sweat and prepare to leave empowered and feeling strong. The class focuses on all elements of fitness: cardiovascular\, muscular conditioning\, flexibility and balance! \nShlomit Stroh\, dancer\, actor and singer\, taught Zumba Gold and song and dance to Latin music all over South America. She spreads the joy at Netanya AACI. \n Members NIS 35 per session\, payable at the lesson \nNon-members NIS 70 per session\, payable at the lesson
URL:https://netanyaaaci.org.il/event/zumba-aug2025/2025-11-16/
LOCATION:Netanya AACI\, 28 Shmuel Hanatziv\, Netanya\, Israel\, 4228132\, Israel
CATEGORIES:Exercise
ATTACH;FMTTYPE=image/jpeg:https://netanyaaaci.org.il/wp-content/uploads/2019/06/Shlomit-Stroh.jpg
ORGANIZER;CN="Netanya AACI":MAILTO:info@netanyaaaci.org.il
END:VEVENT
BEGIN:VEVENT
DTSTART;TZID=Asia/Jerusalem:20251117T110000
DTEND;TZID=Asia/Jerusalem:20251117T110000
DTSTAMP:20260422T222054
CREATED:20240811T124147Z
LAST-MODIFIED:20250905T140442Z
UID:10007986-1763377200-1763377200@netanyaaaci.org.il
SUMMARY:Chess Club
DESCRIPTION:Chess Club \n11:00 Mondays  \nChess Club and Lessons – Beginner and Intermediate \nInstructor: Barry Schneider \nBarry is a chess expert and was one of the 15th best chess players in Manchester\, England as a teenager. \nCome learn the game of kings! and play with your competition! \nMembers NIS 25 \nNon-members NIS 35 \nPayable at the door. \nFor information call the box office at 098330950.
URL:https://netanyaaaci.org.il/event/chess-club-new-2-2-2-2-2/2025-11-17/
LOCATION:Netanya AACI\, 28 Shmuel Hanatziv\, Netanya\, Israel\, 4228132\, Israel
CATEGORIES:Chugim
ATTACH;FMTTYPE=image/jpeg:https://netanyaaaci.org.il/wp-content/uploads/2024/02/Chess-Photo-1.jpg
ORGANIZER;CN="Netanya AACI":MAILTO:info@netanyaaaci.org.il
END:VEVENT
BEGIN:VEVENT
DTSTART;TZID=Asia/Jerusalem:20251118T093000
DTEND;TZID=Asia/Jerusalem:20251118T093000
DTSTAMP:20260422T222054
CREATED:20241217T084632Z
LAST-MODIFIED:20251031T090115Z
UID:10051122-1763458200-1763458200@netanyaaaci.org.il
SUMMARY:Zumba Gold
DESCRIPTION:Zumba Gold \n9:30-10:15 Sundays and Tuesdays  \nOur class is for active older adults who are looking for a modified Zumba class that recreates the original moves at a lower intensity. \nYou will enjoy Shlomit’s positive spirit\, humour\, and the personal attention she gives to each one of her students. You will come out with a smile! \nThe design of the class introduces easy-to-follow Zumba choreography that focuses on balance\, range of motion and coordination. \nCome ready to sweat and prepare to leave empowered and feeling strong. The class focuses on all elements of fitness: cardiovascular\, muscular conditioning\, flexibility and balance! \nShlomit Stroh\, dancer\, actor and singer\, taught Zumba Gold and song and dance to Latin music all over South America. She spreads the joy at Netanya AACI. \n Members NIS 35 per session\, payable at the lesson \nNon-members NIS 70 per session\, payable at the lesson
URL:https://netanyaaaci.org.il/event/zumbagoldtuesdays-2/2025-11-18/
LOCATION:Netanya AACI\, 28 Shmuel Hanatziv\, Netanya\, Israel\, 4228132\, Israel
CATEGORIES:Exercise
ATTACH;FMTTYPE=image/jpeg:https://netanyaaaci.org.il/wp-content/uploads/2019/06/Shlomit-Stroh.jpg
ORGANIZER;CN="Netanya AACI":MAILTO:info@netanyaaaci.org.il
END:VEVENT
BEGIN:VEVENT
DTSTART;TZID=Asia/Jerusalem:20251119T093000
DTEND;TZID=Asia/Jerusalem:20251119T093000
DTSTAMP:20260422T222054
CREATED:20251030T072014Z
LAST-MODIFIED:20260304T171053Z
UID:10050837-1763544600-1763544600@netanyaaaci.org.il
SUMMARY:Art Class - with Ruth Lenk
DESCRIPTION: Art Classes With Ruth Lenk \n9.30 Wednesdays \nForget that Art enhances fine motor skills\, hand-eye coordination\, problem solving skills\, lateral thinking\, complex analysis and critical thinking skills. Art is fun! And you don’t need to have any experience to produce beautiful work. \nI’ve heard that there are two steps to success: 1. Start 2. Carry on. \nTake that first step by joining our Art class. We meet every Wednesday morning from 9.30-11.30. \nThen\, work with me to develop the techniques you want to master: pencil\, watercolors\, chalk\, pastel\, acrylic\, collage. I am an experienced artist and teacher (let’s not count the years – but over 40) and I want to help you learn to express yourself artistically in a supportive and encouraging environment. \nMembers: NIS 60 per lesson  \nNon-members: NIS 120 per lesson \nPayable at the Box Office per four weeks \n 
URL:https://netanyaaaci.org.il/event/artclasses2025-2/2025-11-19/
LOCATION:Netanya AACI\, 28 Shmuel Hanatziv\, Netanya\, Israel\, 4228132\, Israel
CATEGORIES:Art Classes
ATTACH;FMTTYPE=image/png:https://netanyaaaci.org.il/wp-content/uploads/2018/12/art-new.png
ORGANIZER;CN="Netanya AACI":MAILTO:info@netanyaaaci.org.il
END:VEVENT
BEGIN:VEVENT
DTSTART;TZID=Asia/Jerusalem:20251120T083000
DTEND;TZID=Asia/Jerusalem:20251120T093000
DTSTAMP:20260422T222054
CREATED:20250518T061913Z
LAST-MODIFIED:20260304T171346Z
UID:10049018-1763627400-1763631000@netanyaaaci.org.il
SUMMARY:Exercises for Women with Orly Sasson
DESCRIPTION:Exercises for Women  \nwith Orly Sasson  \n8:30 – 9:30 Thursdays \nOrly Sasson is proud of all the ladies who continued with her exercise class during the lockdown. She now invites new members to join her osteoporosis-prevention class. Every Thursday\, you can enjoy exercising to music and a peaceful meditation at the end of each lesson. \nOrly’s lessons emphasize the importance of positive thinking and relaxation after exercise. Classes are accompanied by soothing music. \nMembers: NIS 50 per lesson payable at the lesson \nNon-members: NIS 100 per lesson payable at the lesson \n  \n 
URL:https://netanyaaaci.org.il/event/exercisesforwomen2025/2025-11-20/
LOCATION:Netanya AACI\, 28 Shmuel Hanatziv\, Netanya\, Israel\, 4228132\, Israel
CATEGORIES:Exercise
ATTACH;FMTTYPE=image/jpeg:https://netanyaaaci.org.il/wp-content/uploads/2021/06/Orlys-exercise-group.jpg
ORGANIZER;CN="Netanya AACI":MAILTO:info@netanyaaaci.org.il
END:VEVENT
BEGIN:VEVENT
DTSTART;TZID=Asia/Jerusalem:20251120T100000
DTEND;TZID=Asia/Jerusalem:20251120T100000
DTSTAMP:20260422T222054
CREATED:20241103T201046Z
LAST-MODIFIED:20250908T190604Z
UID:10049545-1763632800-1763632800@netanyaaaci.org.il
SUMMARY:Yoga/Chi Kung - with Dr. Lisel Badach
DESCRIPTION:Yoga/Chi Kung – with Dr. Lisel Badach \n10:00 Thursdays \nOpen your channels and free your energy while practicing a harmonious blend of Yoga and Chi Kung that will bring about the benefits of both in a synergetic effect: spontaneously developing within you the talent of easily combining serenity and alertness\, and creating a more meaningful life. \nDr. Lisel Badach\, Physician MD\, has practiced privately and in hospitals in Paris\, UMDNJ USA\, and Haifa. She acquired certifications and licences in many kinds of alternative medicine approaches including meditation\, massage\, shiatsu\, healing of the soul\, psychology\, etc. \nMembers NIS 30 per session     Non-Members NIS 60 per session \nPay at the door.
URL:https://netanyaaaci.org.il/event/yogasep2025/2025-11-20/
LOCATION:Netanya AACI\, 28 Shmuel Hanatziv\, Netanya\, Israel\, 4228132\, Israel
CATEGORIES:Exercise
ATTACH;FMTTYPE=image/jpeg:https://netanyaaaci.org.il/wp-content/uploads/2024/08/yoga-pixabay.jpg
ORGANIZER;CN="Netanya AACI":MAILTO:info@netanyaaaci.org.il
END:VEVENT
END:VCALENDAR