BEGIN:VCALENDAR
VERSION:2.0
PRODID:-//Netanya AACI - ECPv6.15.20//NONSGML v1.0//EN
CALSCALE:GREGORIAN
METHOD:PUBLISH
X-WR-CALNAME:Netanya AACI
X-ORIGINAL-URL:https://netanyaaaci.org.il
X-WR-CALDESC:Events for Netanya AACI
REFRESH-INTERVAL;VALUE=DURATION:PT1H
X-Robots-Tag:noindex
X-PUBLISHED-TTL:PT1H
BEGIN:VTIMEZONE
TZID:Asia/Jerusalem
BEGIN:DAYLIGHT
TZOFFSETFROM:+0200
TZOFFSETTO:+0300
TZNAME:IDT
DTSTART:20250328T000000
END:DAYLIGHT
BEGIN:STANDARD
TZOFFSETFROM:+0300
TZOFFSETTO:+0200
TZNAME:IST
DTSTART:20251025T230000
END:STANDARD
BEGIN:DAYLIGHT
TZOFFSETFROM:+0200
TZOFFSETTO:+0300
TZNAME:IDT
DTSTART:20260327T000000
END:DAYLIGHT
BEGIN:STANDARD
TZOFFSETFROM:+0300
TZOFFSETTO:+0200
TZNAME:IST
DTSTART:20261024T230000
END:STANDARD
BEGIN:DAYLIGHT
TZOFFSETFROM:+0200
TZOFFSETTO:+0300
TZNAME:IDT
DTSTART:20270326T000000
END:DAYLIGHT
BEGIN:STANDARD
TZOFFSETFROM:+0300
TZOFFSETTO:+0200
TZNAME:IST
DTSTART:20271030T230000
END:STANDARD
END:VTIMEZONE
BEGIN:VEVENT
DTSTART;TZID=Asia/Jerusalem:20260518T083000
DTEND;TZID=Asia/Jerusalem:20260518T120000
DTSTAMP:20260424T161556
CREATED:20230324T130321Z
LAST-MODIFIED:20260424T104616Z
UID:155214-1779093000-1779105600@netanyaaaci.org.il
SUMMARY:Book Sale For Summer Reading
DESCRIPTION:Book Sale For Summer Reading \n8:30-12:00 Monday 18 May \n Who doesn’t like a bargain? \nWell\, you’re in luck because we’re combining two of your favorite things – reading and sales – into one great thing – fabulous books at great prices. So now you can enjoy your mysteries\, romances\, and memoirs for a fraction of what you would pay in the store.  Buy three books for only 20 NIS! \nPeriodically\, we refresh the selection on the shelves of the Gura Family Memorial Library\, by culling duplicate and other books. The upcoming book sale will once again provide browsers with interesting offerings at bargain prices. Even better news for you is that proceeds from our book sales are used to acquire the latest best sellers for the library. \nSo\, mark your calendars and plan to browse to your heart’s content! \nNearby Parking: (one block north of Netanya AACI\, approach from the north on Shmuel Hanatziv to turn right into the driveway just before the traffic circle) \nUsing Waze: https://waze.com/ul/hsv8zcjvhf \nUsing Google Maps: https://maps.app.goo.gl/teDPagS7GRUi5VzY8
URL:https://netanyaaaci.org.il/event/book-sale_may2026/
LOCATION:Netanya AACI\, 28 Shmuel Hanatziv\, Netanya\, Israel\, 4228132\, Israel
CATEGORIES:Special Events
ATTACH;FMTTYPE=image/jpeg:https://netanyaaaci.org.il/wp-content/uploads/2023/03/Book-Sale-1-1-1-1-1-1-1.jpg
ORGANIZER;CN="Netanya AACI":MAILTO:info@netanyaaaci.org.il
END:VEVENT
END:VCALENDAR