BEGIN:VCALENDAR
VERSION:2.0
PRODID:-//Netanya AACI - ECPv6.15.20//NONSGML v1.0//EN
CALSCALE:GREGORIAN
METHOD:PUBLISH
X-WR-CALNAME:Netanya AACI
X-ORIGINAL-URL:https://netanyaaaci.org.il
X-WR-CALDESC:Events for Netanya AACI
REFRESH-INTERVAL;VALUE=DURATION:PT1H
X-Robots-Tag:noindex
X-PUBLISHED-TTL:PT1H
BEGIN:VTIMEZONE
TZID:Asia/Jerusalem
BEGIN:DAYLIGHT
TZOFFSETFROM:+0200
TZOFFSETTO:+0300
TZNAME:IDT
DTSTART:20250328T000000
END:DAYLIGHT
BEGIN:STANDARD
TZOFFSETFROM:+0300
TZOFFSETTO:+0200
TZNAME:IST
DTSTART:20251025T230000
END:STANDARD
BEGIN:DAYLIGHT
TZOFFSETFROM:+0200
TZOFFSETTO:+0300
TZNAME:IDT
DTSTART:20260327T000000
END:DAYLIGHT
BEGIN:STANDARD
TZOFFSETFROM:+0300
TZOFFSETTO:+0200
TZNAME:IST
DTSTART:20261024T230000
END:STANDARD
BEGIN:DAYLIGHT
TZOFFSETFROM:+0200
TZOFFSETTO:+0300
TZNAME:IDT
DTSTART:20270326T000000
END:DAYLIGHT
BEGIN:STANDARD
TZOFFSETFROM:+0300
TZOFFSETTO:+0200
TZNAME:IST
DTSTART:20271030T230000
END:STANDARD
END:VTIMEZONE
BEGIN:VEVENT
DTSTART;TZID=Asia/Jerusalem:20260623T160000
DTEND;TZID=Asia/Jerusalem:20260623T160000
DTSTAMP:20260424T222759
CREATED:20221123T101152Z
LAST-MODIFIED:20260424T134230Z
UID:155251-1782230400-1782230400@netanyaaaci.org.il
SUMMARY:Book Club - The Lion Women of Tehran by Marjan Kamali
DESCRIPTION:Book Club -The Lion Women of Tehran by Marjan Kamali\nLed by Marcy Manas and Liz Morley\n16:00 Tuesday 23 June \nOur Book Talk meets once a month. Books are available to borrow from the Gura Family Memorial Library. \nOur June choice is The Lion Women of Tehran by Marjan Kamali. \nIn 1950s Tehran\, seven-year-old Ellie lives in grand comfort until the untimely death of her father\, forcing Ellie and her mother to move to a tiny home downtown. Lonely and bearing the brunt of her mother’s endless grievances\, Ellie dreams for a friend to alleviate her isolation. \nLuckily\, on the first day of school\, she meets Homa\, a kind girl with a brave and irrepressible spirit. Together\, the two girls play games\, learn to cook in the stone kitchen of Homa’s warm home\, wander through the colorful stalls of the Grand Bazaar\, and share their ambitions of becoming “lion women.” But their happiness is disrupted when Ellie and her mother are afforded the opportunity to return to their previous bourgeois life. Now a popular student at the best girls’ high school in Iran\, Ellie’s memories of Homa begin to fade. Years later\, however\, her sudden reappearance in Ellie’s privileged world alters the course of both of their lives. Together\, the two young women come of age and pursue their own goals for meaningful futures. But as the political turmoil in Iran builds to a breaking point\, one earth-shattering betrayal will have enormous consequences. \nMembers NIS 25      \nNon-members NIS 35 \nPurchase tickets below\, contact the Box Office 09-8330950 or pay at the door.
URL:https://netanyaaaci.org.il/event/bookclub-june2026/
LOCATION:Netanya AACI\, 28 Shmuel Hanatziv\, Netanya\, Israel\, 4228132\, Israel
CATEGORIES:Book Club
ATTACH;FMTTYPE=image/png:https://netanyaaaci.org.il/wp-content/uploads/2021/03/Book-Talk-new-1-1-1.png
ORGANIZER;CN="Netanya AACI":MAILTO:info@netanyaaaci.org.il
END:VEVENT
END:VCALENDAR